Workbook

Sheet Kangatang

Sheet PCLDHKI26-27T1(7.9)->12.9L1
A1: TRƯỜNG THCS ĐÔNG HẢI
A2: Số: 01 /BCPCLĐ - THCSĐH
A3: BÁO CÁO PHÂN CÔNG LAO ĐỘNG HỌC KỲ I NĂM HỌC 2026 - 2027
A4: LẦN 1(Số liệu tính đến ngày …./…../2026 Đến …../…../2026)
A5: A. SỐ LỚP, HỌC SINH
B6: K6 | C6: K7 | D6: K8 | E6: K9 | F6: CỘNG
A7: Lớp | B7: 5 | C7: 5 | D7: 5 | E7: 5 | F7: =SUM(B7:E7) -> 20
A8: Học sinh | B8: 205 | C8: 209 | D8: 198 | E8: 199 | F8: =SUM(B8:E8) -> 811
A9: Nữ | B9: 102 | C9: 88 | D9: 107 | E9: 90 | F9: =SUM(B9:E9) -> 387
A10: B. PHÂN CÔNG LAO ĐỘNG
A11: TT | B11: Họ và tên | C11: Ng,th năm sinh | D11: Chức vụ | E11: Trình độ CM | F11: Ngành ĐT(ĐHSP-CĐSP) | G11: Mã ngạch | H11: Công việc được phân công | I11: Số tiết | J11: Ôn HSG | K11: Thuộc diện | M11: Ghi chú
H12: Phân công chuyên môn | K12: BC | L12: HĐ | M12: Tin học | N12: NN | O12: Đảng viên
A13: I | B13: BAN GIÁM HIỆU
A14: 1 | B14: Phan Văn Vinh | C14: 29100 | D14: Hiệu trưởng | E14: Thạc sĩ QLGD, Đại học | F14: Toán, Toán-Lí | G14: V.07.04.31 | H14: Phụ trách chung, công tác cán bộ, vc, tài chính, chế độ cho CBGV, Khen thưởng+ HĐTN,HN 6A1/2 | I14: ='PCCMHOCKYI26-27(7.9->...)L1'!L31 -> 2 | K14: x | M14: B | N14: B1 | O14: x
A15: 2 | B15: Vũ Hải Thanh | C15: 25549 | D15: P.Hiệu trưởng | E15: Đại học | F15: Ngữ văn, Văn-Địa | G15: V.07.04.31 | H15: Phụ trách PCGD,XMC, lao động, CSVC cơ sở 1, phụ trách tổ Văn phòng, hồ sơ kiểm định mảng mình phụ trách | I15: ='PCCMHOCKYI26-27(7.9->...)L1'!L41 -> 4 | K15: x | M15: B | N15: B1 | O15: x
A16: 3 | B16: Vũ Thị Hồng Nhung | C16: 16/12/1979 | D16: P.Hiệu trưởng | E16: Thạc sĩ QLGD, Đại học | F16: Lịc Sử, Văn-Sử | G16: V.07.04.31 | H16: Phụ trách lao động, cơ sở vật chất CS2; đời sống GV, Hồ sơ phòng cháy chữa cháy, Hồ sơ kiểm định mảng phụ trách Tổ KHXH; HĐTN,HN 8A2/3, HĐTN,HN 8C1/1, các cuộc thi giáo viên thuộc tổ mình quản lí | I16: ='PCCMHOCKYI26-27(7.9->...)L1'!L8 -> 4 | K16: x | M16: B | N16: B1 | O16: x
A17: 4 | B17: Đỗ Văn Thắng | C17: 02/01/1979 | D17: P.Hiệu trưởng | E17: Thạc sĩ QLGD, Đại học | F17: Hóa học, Hóa-Sinh | G17: V.07.04.30 | H17: Phụ trách công tác chuyên môn hai cơ sở; học sinh các cuộc thi giáo viên thuộc tổ quản lí, Hồ sơ kiểm định mảng phụ trách, Tổ KHTN+ HĐTN,HN8B2/3+HĐTN,HN8C2/1 | I17: ='PCCMHOCKYI26-27(7.9->...)L1'!L18 -> 4 | K17: x | M17: B | N17: B1 | O17: x
A18: II | B18: TỔ VĂN PHÒNG
A19: 1 | B19: Mai Thị Hồng | C19: 25/12/1979 | D19: TTT Văn phòng | E19: Đại học | F19: Y tế(CNĐD) | G19: V.08.05.13 | H19: Công tác ytế CS2, BH, Vệ sinh học đường CS2 | K19: x | M19: A | N19: B | O19: x
A20: 2 | B20: Đoàn Thị Điệp | C20: 26600 | D20: TPT Văn phòng | E20: Trung cấp | F20: Y tế | G20: V.08.03.07 | H20: Công tác ytế CS1, BH, Vệ sinh học đường CS1 | K20: x | M20: B | N20: B | O20: x
A21: 3 | B21: Trương Thị Hạnh | C21: 15/10/1980 | D21: Nhân viên | E21: Đại học | F21: Kế toán | G21: V.06.031 | H21: Kế toán, tài chính, chế độ CB,VC | K21: x | M21: B | N21: B | O21: x
A22: 4 | B22: Phạm Thị Ánh Ngọc | C22: 04/04/1986 | D22: Tổ trưởng | E22: Cao đẳng | F22: Văn Thư | G22: 02.008 | H22: Công tác Văn thư | K22: x | M22: B | N22: B | O22: x
A23: 5 | B23: Đào Lệ Diệu Thu | C23: 31856 | D23: Nhân viên | E23: Trung cấp | F23: Thiết bị | G23: V.10.02.07 | H23: Công tác thiết bị | K23: x | M23: B | N23: B
A24: 6 | B24: Trần Thùy Trang | C24: 18/11/1991 | D24: Nhân viên | E24: Đại học | F24: Thư viện | G24: V.10.02.06 | H24: Công tác Thư viện | K24: x | M24: B | N24: B | O24: x
A25: III | B25: TỔ XÃ HỘI
A26: 1 | B26: Phạm Thị Vân | C26: 16/03/1978 | D26: TTTKHXH | E26: Đại học | F26: Ngữ văn, Văn-Địa | G26: V.07.04.31 | H26: ='PCCMHOCKYI26-27(7.9->...)L1'!F9 -> Văn 9A1/4+Văn 7A1B1/8+LS&ĐL(Địa) 6B26C2/3 | I26: ='PCCMHOCKYI26-27(7.9->...)L1'!L9 -> 19 | K26: x | M26: B | N26: B1 | O26: x
A27: 2 | B27: Phạm Xuân Thời | C27: 03/02/1974 | D27: Giáo viên | E27: Đại học | F27: Ngữ văn, Văn-Sử | G27: V.07.04.31 | H27: ='PCCMHOCKYI26-27(7.9->...)L1'!F10 -> Văn 8A1B1/8+Văn 6B1/4+HĐTN,HN8A1/3 | I27: ='PCCMHOCKYI26-27(7.9->...)L1'!L10 -> 20 | K27: x | M27: B | N27: B1
A28: 3 | B28: Nguyễn Thị Hải Yến | C28: 03/02/1981 | D28: Giáo viên | E28: Đại học | F28: Ngữ văn, Văn | G28: V.07.04.32 | H28: ='PCCMHOCKYI26-27(7.9->...)L1'!F11 -> Văn 9B1C1/8+Văn 7C1/4+HĐTN,HN 9B1/2 | I28: ='PCCMHOCKYI26-27(7.9->...)L1'!L11 -> 19 | K28: x | M28: B | N28: B1 | O28: x
A29: 4 | B29: Đinh Văn Phương | C29: 21/11/1973 | D29: Giáo viên | E29: Đại học | F29: Tiếng Anh | G29: V.07.04.32 | H29: ='PCCMHOCKYI26-27(7.9->...)L1'!F12 -> Anh 7B1,C1/6 + GDĐP6A1B1/2+ GDDP7A1,B1.C1/3+GDDP 8A1,B1/2+GDCD6A1,B1/2+GDCD7A1B1C1+ HĐTN,HN7/3 | I29: ='PCCMHOCKYI26-27(7.9->...)L1'!L12 -> 22 | K29: x | M29: B | N29: B2
A30: 5 | B30: Phạm Văn Bình | C30: 16/02/1981 | D30: Giáo viên | E30: Đại học | F30: Tiếng Anh | G30: V.07.04.31 | H30: ='PCCMHOCKYI26-27(7.9->...)L1'!F13 -> Anh9A2/3+Anh 6A2,B2,C2/9+Anh 7A2,B2/6 | I30: ='PCCMHOCKYI26-27(7.9->...)L1'!L13 -> 19 | K30: x | M30: B | N30: ĐH | O30: x
A31: 6 | B31: Phạm Thị Trang | C31: 15/02/1991 | D31: Giáo viên | E31: Đại học | F31: ĐH Lịch sử, ĐH Sử-Địa | G31: V.07.04.32 | H31: ='PCCMHOCKYI26-27(7.9->...)L1'!F14 -> LS&ĐL(L.Sử)9A1B1C1/4.5+ LS&ĐL(L.Sử)8A1B1/3+ LS&ĐL(L.Sử) 7A1B1C1/4.5+LS&ĐL(L.Sử)6A1B1/3 | I31: ='PCCMHOCKYI26-27(7.9->...)L1'!L14 -> 20 | K31: x | M31: B | N31: B | O31: x
A32: 7 | B32: Phạm Thị Hằng | C32: 05/01/1980 | D32: Giáo viên | E32: Đại học | F32: Ngữ văn, Văn-Sử | G32: V.07.04.31 | H32: ='PCCMHOCKYI26-27(7.9->...)L1'!F15 -> Ngữ văn 6A1/4+ HĐTN,HN8C1/1 | I32: ='PCCMHOCKYI26-27(7.9->...)L1'!L15 -> 19 | K32: x | M32: A | N32: B | O32: x
A33: 8 | B33: Trần Thị Mai Lệ | C33: 29/08/1988 | D33: Giáo viên | E33: Đại học | F33: Mỹ thuật | G33: V.07.04.31 | H33: ='PCCMHOCKYI26-27(7.9->...)L1'!F16 -> N.thuật(MT+ÂN)6A1B1/4+NT(MT)7A1B1C1/3+NT(MT)8A1B1/2+NT(MT)9A1B1C1/3+HĐTH,HN6B1/3 | I33: ='PCCMHOCKYI26-27(7.9->...)L1'!L16 -> 19 | K33: x | M33: A | N33: A1 | O33: x
A34: 9 | B34: Phạm Thị Ngọc Mây | C34: 02/4/2000 | D34: Giáo viên | E34: Đại học | F34: GDCD | G34: HĐ111 | H34: ='PCCMHOCKYI26-27(7.9->...)L1'!F17 -> GDCD9A19B19C1,9A29B2/5+GDCD8A18B1,8A2,8B2,8C2/5+GDCD7A2B2/2+ GDCD6A2,6B2,6C2/3 | I34: ='PCCMHOCKYI26-27(7.9->...)L1'!L17 -> 19 | L34: x | M34: B | N34: A2
A35: 10 | B35: Đào Thị Nam Bình | C35: 18/05/1977 | D35: TPTKHXH | E35: Đại học | F35: Tiếng Anh | G35: V.07.04.31 | H35: ='PCCMHOCKYI26-27(7.9->...)L1'!F19 -> Anh 9A1,9B2/6 + Anh 8A2B2C2/9+Anh7A1/3 | I35: ='PCCMHOCKYI26-27(7.9->...)L1'!L19 -> 20 | K35: x | M35: B | N35: ĐH | O35: x
A36: 11 | B36: Nguyễn Văn Mậu | C36: 16/11/1978 | D36: Giáo viên | E36: Đại học | F36: Ngữ văn-Sử, Văn -Sử | G36: V.07.04.31 | H36: ='PCCMHOCKYI26-27(7.9->...)L1'!F20 -> Văn 8C2/4 + Văn 7B2/4+ LS&ĐL(Sử) 8B2C2/3+Sử 9A2B2/3 | I36: ='PCCMHOCKYI26-27(7.9->...)L1'!L20 -> 19 | K36: x | M36: B | N36: B1 | O36: x
A37: 12 | B37: Nguyễn T.Thuý Năm | C37: 19/01/1975 | D37: Giáo viên | E37: Đại học | F37: Tiếng Anh | G37: V.07.04.31 | H37: ='PCCMHOCKYI26-27(7.9->...)L1'!F21 -> GDĐP6A2B2C2/3+GDĐP7A2B2/2+GDDDDP8A2,B2C2/3+GDDP9A2B2/2+HĐTN,HN 7B2/3+C.Nghệ 6A2B2C2/3+NT(Â. Nhạc)7A2B2/2+HĐTN,HN6C2/1 | I37: ='PCCMHOCKYI26-27(7.9->...)L1'!L21 -> 19 | K37: x | M37: A | N37: ĐH
A38: 13 | B38: Vũ Thị Hồng Oanh | C38: 22/01/1979 | D38: Giáo viên | E38: Đại học | F38: Ngữ văn, Văn-GDCD | G38: V.07.04.31 | H38: ='PCCMHOCKYI26-27(7.9->...)L1'!F22 -> Văn 9A2/4+Văn 8A2B2/8 | I38: ='PCCMHOCKYI26-27(7.9->...)L1'!L22 -> 19 | K38: x | M38: B | N38: B1 | O38: x
A39: 14 | B39: Nguyễn Thị Thu Thuỷ | C39: 20/03/1978 | D39: Giáo viên | E39: Đại học | F39: Ngữ Văn, Văn-Sử | G39: V.07.04.31 | H39: ='PCCMHOCKYI26-27(7.9->...)L1'!F23 -> Văn 7A2/4 +Văn 6A2B2/8+LS&ĐL(Sử) 7A27B2/3 | I39: ='PCCMHOCKYI26-27(7.9->...)L1'!L23 -> 20 | K39: x | M39: B | N39: B1 | O39: x
A40: 15 | B40: Phạm Văn Quang | C40: 08/08/1981 | D40: Giáo viên | E40: Đại học | F40: Địa lí, Sử-Địa | G40: V.07.04.32 | H40: ='PCCMHOCKYI26-27(7.9->...)L1'!F24 -> Địa 9A2B2/3 + Địa 8A2B2C2/4.5 + LS&ĐL(Địa) 7A2B2/3+ LS&ĐL(Địa) 6A2/1,5+LS&ĐL(Sử)8A2/1,5+HĐTN,HN 7A2/1 | I40: ='PCCMHOCKYI26-27(7.9->...)L1'!L24 -> 19.5 | K40: x | M40: B | N40: B1 | O40: x
...

Sheet PCCMHOCKYI26-27(7.9->...)L1
A1: TRƯỜNG THCS ĐÔNG HẢI Số: /PCCM- THCS KTr
A2: PHÂN CÔNG CHUYÊN MÔN HỌC KÌ I NĂM HỌC 2026-2027
A3: Lần 1: Thực hiện từ Tuần 1(07/09/2026) đến hết tuần ...(......../....../....)
A4: TT | B4: Họ và tên | C4: Ng,th, năm sinh | D4: Chức vụ | E4: Ngành ĐT(ĐHSP-CĐSP) | F4: Tổng số tiết lao động | L4: Tổng số tiết lao động (1+2+3) | M4: Tiết thừa theo quy định | N4: Ghi chú
F5: Giảng dạy | G5: Số tiết thực giảng | H5: Kiêm nhiệm | I5: Số tiết kiêm nhiệm | J5: Việc khác | K5: Số tiết khác
G6: 1 | I6: 2 | K6: 3
A7: I | B7: Tổ KHXH
A8: 1 | B8: Vũ Hải Thanh | C8: 25549 | D8: P.Hiệu trưởng | E8: Ngữ văn, Văn-Địa | F8: LS&ĐL(Địa)7A1B1/3+HDTN,HN 6A1/1 | G8: 4 | L8: =G8+I8+K8 -> 4 | M8: =L8-4 -> 0
A9: 2 | B9: Phạm Thị Vân | C9: 16/03/1978 | D9: TTTKHXH | E9: Ngữ văn, Văn-Địa | F9: Văn 9A1/4+Văn 7A1B1/8+LS&ĐL(Địa) 6B26C2/3 | G9: 15 | H9: TT KHXH | I9: 3 | J9: HSG Văn 7 | K9: 1 | L9: =G9+I9+K9 -> 19 | M9: =L9-19 -> 0
A10: 3 | B10: Phạm Xuân Thời | C10: 03/02/1974 | D10: Giáo viên | E10: Ngữ văn, Văn-Sử | F10: Văn 8A1B1/8+Văn 6B1/4+HĐTN,HN8A1/3 | G10: 15 | H10: Chủ nhiệm 8A1 | I10: 4 | J10: HSG Văn 8 | K10: 1 | L10: =G10+I10+K10 -> 20 | M10: =L10-19 -> 1
A11: 4 | B11: Nguyễn Thị Hải Yến | C11: 03/02/1981 | D11: Giáo viên | E11: Ngữ văn, Văn | F11: Văn 9B1C1/8+Văn 7C1/4+HĐTN,HN 9B1/2 | G11: 14 | H11: Chủ nhiệm 9B1 | I11: 4 | J11: HSG Văn 9 | K11: 1 | L11: =G11+I11+K11 -> 19 | M11: =L11-19 -> 0
A12: 5 | B12: Đinh Văn Phương | C12: 21/11/1973 | D12: Giáo viên | E12: Tiếng Anh | F12: Anh 7B1,C1/6 + GDĐP6A1B1/2+ GDDP7A1,B1.C1/3+GDDP 8A1,B1/2+GDCD6A1,B1/2+GDCD7A1B1C1+ HĐTN,HN7/3 | G12: 21 | J12: HSG Anh 7 | K12: 1 | L12: =G12+I12+K12 -> 22 | M12: =L12-19 -> 3
A13: 6 | B13: Phạm Văn Bình | C13: 16/02/1981 | D13: Giáo viên | E13: Tiếng Anh | F13: Anh9A2/3+Anh 6A2,B2,C2/9+Anh 7A2,B2/6 | G13: 18 | J13: HSG Anh 6 | K13: 1 | L13: =G13+I13+K13 -> 19 | M13: =L13-19 -> 0
A14: 7 | B14: Phạm Thị Trang | C14: 15/02/1991 | D14: Giáo viên | E14: ĐH Lịch sử, ĐH Sử-Địa | F14: LS&ĐL(L.Sử)9A1B1C1/4.5+ LS&ĐL(L.Sử)8A1B1/3+ LS&ĐL(L.Sử) 7A1B1C1/4.5+LS&ĐL(L.Sử)6A1B1/3 | G14: 15 | H14: Chủ nhiệm 6A1 | I14: 4 | J14: HSG Sử 9 | K14: 1 | L14: =G14+I14+K14 -> 20 | M14: =L14-19 -> 1
A15: 8 | B15: Phạm Thị Hằng | C15: 05/01/1980 | D15: Giáo viên | E15: Ngữ văn, Văn-Sử | F15: Ngữ văn 6A1/4+ HĐTN,HN8C1/1 | G15: 5 | H15: Tổng phụ trách | I15: 13 | J15: HSG Văn 6 | K15: 1 | L15: =G15+I15+K15 -> 19 | M15: =L15-19 -> 0
A16: 9 | B16: Trần Thị Mai Lệ | C16: 29/08/1988 | D16: Giáo viên | E16: Mỹ thuật | F16: N.thuật(MT+ÂN)6A1B1/4+NT(MT)7A1B1C1/3+NT(MT)8A1B1/2+NT(MT)9A1B1C1/3+HĐTH,HN6B1/3 | G16: 15 | H16: Chủ nhiệm 6B1 | I16: 4 | L16: =G16+I16+K16 -> 19 | M16: =L16-19 -> 0
A17: 10 | B17: Phạm Thị Ngọc Mây | C17: 02/4/2000 | D17: Giáo viên | E17: GDCD | F17: GDCD9A19B19C1,9A29B2/5+GDCD8A18B1,8A2,8B2,8C2/5+GDCD7A2B2/2+ GDCD6A2,6B2,6C2/3 | G17: 15 | H17: Chủ nhiệm 6B2 | I17: 4 | L17: =G17+I17+K17 -> 19 | M17: =L17-19 -> 0 | N17: HĐ111
A18: 11 | B18: Vũ Thị Hồng Nhung | C18: 16/12/1979 | D18: P.Hiệu trưởng | E18: Lịc Sử, Văn-Sử | F18: HĐTN,HN8A2/3+HĐTN,HN8C2/1 | G18: 4 | L18: =G18+I18+K18 -> 4 | M18: =L18-4 -> 0
A19: 12 | B19: Đào Thị Nam Bình | C19: 18/05/1977 | D19: TPKHXH | E19: Tiếng Anh | F19: Anh 9A1,9B2/6 + Anh 8A2B2C2/9+Anh7A1/3 | G19: 18 | H19: TPTKHXH | I19: 1 | J19: HSG Anh 9 | K19: 1 | L19: =G19+I19+K19 -> 20 | M19: =L19-19 -> 1
A20: 13 | B20: Nguyễn Văn Mậu | C20: 16/11/1978 | D20: Giáo viên | E20: Ngữ văn-Sử, Văn -Sử | F20: Văn 8C2/4 + Văn 7B2/4+ LS&ĐL(Sử) 8B2C2/3+Sử 9A2B2/3 | G20: 14 | H20: Chủ nhiệm 8C2 | I20: 4 | J20: HSG Sử 9 | K20: 1 | L20: =G20+I20+K20 -> 19 | M20: =L20-19 -> 0
A21: 14 | B21: Nguyễn T.Thuý Năm | C21: 19/01/1975 | D21: Giáo viên | E21: Tiếng Anh | F21: GDĐP6A2B2C2/3+GDĐP7A2B2/2+GDDDDP8A2,B2C2/3+GDDP9A2B2/2+HĐTN,HN 7B2/3+C.Nghệ 6A2B2C2/3+NT(Â. Nhạc)7A2B2/2+HĐTN,HN6C2/1 | G21: 19 | L21: =G21+I21+K21 -> 19 | M21: =L21-19 -> 0
A22: 15 | B22: Vũ Thị Hồng Oanh | C22: 22/01/1979 | D22: Giáo viên | E22: Ngữ văn, Văn-GDCD | F22: Văn 9A2/4+Văn 8A2B2/8 | G22: 12 | H22: TKHĐ/2 + Chủ nhiệm 9A2 | I22: 6 | J22: HSG Văn 8 | K22: 1 | L22: =G22+I22+K22 -> 19 | M22: =L22-19 -> 0
A23: 16 | B23: Nguyễn Thị Thu Thuỷ | C23: 20/03/1978 | D23: Giáo viên | E23: Ngữ Văn, Văn-Sử | F23: Văn 7A2/4 +Văn 6A2B2/8+LS&ĐL(Sử) 7A27B2/3 | G23: 15 | H23: Chủ nhiệm 6A2 | I23: 4 | J23: HSG Văn 6 | K23: 1 | L23: =G23+I23+K23 -> 20 | M23: =L23-19 -> 1
A24: 17 | B24: Phạm Văn Quang | C24: 08/08/1981 | D24: Giáo viên | E24: Địa lí, Sử-Địa | F24: Địa 9A2B2/3 + Địa 8A2B2C2/4.5 + LS&ĐL(Địa) 7A2B2/3+ LS&ĐL(Địa) 6A2/1,5+LS&ĐL(Sử)8A2/1,5+HĐTN,HN 7A2/1 | G24: 14.5 | H24: Chủ nhiệm 7A2 | I24: 4 | J24: HSG Địa 8 | K24: 1 | L24: =G24+I24+K24 -> 19.5 | M24: =L24-19 -> 0.5
A25: 18 | B25: Nguyễn Thế Biển | C25: 15/11/1990 | D25: Giáo viên | E25: Mĩ Thuật | F25: NT(MT)8A2B2C2/3+NT(MT)9A2B2/2+NT(MT)6A2B2C2/3+NT(MT)7A2B2/2+ HĐTN,HN9A2/3+HĐTN,HN6A2/3 | G25: 16 | H25: Tư vấn/3 | I25: 3 | L25: =G25+I25+K25 -> 19 | M25: =L25-19 -> 0
A26: 19 | B26: Lê Thị Nguyên | C26: 25/10/1979 | D26: Giáo viên | E26: Ngữ Văn, Văn-Sử | F26: Văn 9B2/4+Văn 6C2/4+LS&ĐL(Sử)6B2C2/3+HĐTN,HN9B2/3 | G26: 14 | H26: Chủ nhiệm 9B2 | I26: 4 | J26: HSG Văn 9 | K26: 1 | L26: =G26+I26+K26 -> 19 | M26: =L26-19 -> 0
A27: 20 | B27: Phạm Thị My | C27: 20/10/1988 | D27: Giáo viên | E27: Âm Nhạc | F27: NT(Â. Nhạc)8A1B18A2B2C2/5+NT(Â. Nhạc)9A1B1C1A2B2/5+NT(Â. Nhạc)7A1B1C1/3+NT(Â. Nhạc)6A2B2C2/3 | G27: 16 | L27: =G27+I27+K27 -> 16 | M27: =L27-16 -> 0 | N27: Con <12 T
A28: 21 | B28: Đặng Thị Luyến | C28: 24/08/1993 | D28: Giáo viên | E28: Ngôn ngữ Anh, Tiếng anh | F28: Anh 8A1B1/6+Anh 6A1,B1/6+Anh 9B1,9C1/6 | G28: 18 | J28: HSG Anh 8 | K28: 1 | L28: =G28+I28+K28 -> 19 | M28: =L28-19 -> 0 | N28: HĐ111
A29: 22 | B29: Nguyễn Tiến Hiệp | C29: 09/11/2004 | D29: Giáo viên | E29: Địa Lí | F29: LS&ĐL(Địa)6A1B1/3+LS&ĐL(Địa)7C1/1.5+LS&ĐL(Địa)8A1B1/3 +LS&ĐL(Địa)9A1B1C1/4,5+GDDP9A1,B1,C1/3+C.Nghệ 6B1/1+HĐTN,HN 7A2/2+ LS&ĐL(Sử) 6A2/1,5 | G29: 19.5 | L29: =G29+I29+K29 -> 19.5 | M29: =L29-19 -> 0.5 | N29: HĐ111
A30: II | B30: Tổ KHTN
A31: 1 | B31: Phan Văn Vinh | C31: 02/9/1976 | D31: Hiệu trưởng | E31: Toán, Toán-Lí | F31: HĐTN, HN 6A1/2 | G31: 2 | L31: =G31+I31+K31 -> 2 | M31: =L31-2 -> 0
A32: 2 | B32: Nguyễn Trọng Đạt | C32: 01/05/1978 | D32: TTTKHTN | E32: Toán, Toán-Tin | F32: Toán 6B2C2/8 + Toán 9B1/4 +HĐTN,HN9A1B1C1/3 | G32: 15 | H32: TT KHTN | I32: 3 | J32: HSG Toán 6 | K32: 1 | L32: =G32+I32+K32 -> 19 | M32: =L32-19 -> 0
A33: 3 | B33: Lê Thị Thanh Nga | C33: 03/09/1979 | D33: Giáo viên | E33: Toán, Toán-Lí | F33: Toán 8A1/4+ Toán 6A1B1/8+C.Nghệ 8A1B1/3+C.Nghệ 7A1B1/2 | G33: 17 | J33: HSG Toán 8,6 | K33: 2 | L33: =G33+I33+K33 -> 19 | M33: =L33-19 -> 0
A34: 4 | B34: Đỗ Thị Thảo | C34: 20/10/1978 | D34: Giáo viên | E34: Toán, Toán | F34: Toán 9A1,9C1/8 + Toán 7A1/4 + HĐTN,HN9C1/2 | G34: 14 | H34: Chủ nhiệm 9C1 | I34: 4 | J34: HSG Toán 8 | K34: 1 | L34: =G34+I34+K34 -> 19 | M34: =L34-19 -> 0
A35: 5 | B35: Nguyễn Minh | C35: 05/03/1982 | D35: Giáo viên | E35: Vật lí, Lí-Tin | F35: KHTN 7B1C1/8 + KHTN (Lí)8A1,B1/2,69 + KHTN (Lí)9A1B1C1/4,035 | G35: 14.725 | H35: Chủ nhiệm 7C1 | I35: 4 | J35: HSG Lí 9 | K35: 1 | L35: =G35+I35+K35 -> 19.725 | M35: =L35-19 -> 0.725
A36: 6 | B36: Trần Thị Thoa | C36: 07/09/1982 | D36: Giáo viên | E36: Sinh học, Sinh-Hóa | F36: KHTN6B1/4 + KHTN7A1/4 + KHTN(Sinh)8A1B1/2,74 + KHTN(Sinh) 9A1B1C1/3,33 | G36: 14.07 | H36: Chủ nhiệm 7A1 | I36: 4 | J36: HSG Sinh 8 | K36: 1 | L36: =G36+I36+K36 -> 19.07 | M36: =L36-19 -> 0.07
A37: 7 | B37: Trần Thị Thu | C37: 01/07/1992 | D37: Giáo viên | E37: Hóa học | F37: KHTN(Hóa) 9A1B1C1/4,635 + KHTN(Hóa) 8A1B1/2,57+KHTN 6A1/4 + HĐTN-HN9A1/2 | G37: 14.205 | H37: Chủ nhiệm 9A1 | I37: 4 | J37: HSG Hóa 9 | K37: 1 | L37: =G37+I37+K37 -> 19.205 | M37: =L37-19 -> 0.205
A38: 8 | B38: Lê Thị Thu | C38: 07/04/1981 | D38: Giáo viên | E38: TDTT, TD | F38: GDTC 6A1/2 + GDTC7A1B17C1/6+ GDTC8A1B1/4+ GDTC9A1B1C1/6 | G38: 18 | J38: HSG GDTC | K38: 1 | L38: =G38+I38+K38 -> 19 | M38: =L38-19 -> 0
A39: 9 | B39: Đỗ Quang Hiệu | C39: 31761 | D39: Giáo viên | E39: CNTT, Tin học | F39: Tin 6A1B1/2 + Tin 7A1B1C1/3 + Tin 8A1B1/2 + Tin 9A1B1C1/3+ HĐTN,HN8B1/3+C.Nghệ 7C1/1 | G39: 14 | H39: Chủ nhiệm 8B1 | I39: 4 | J39: HSG Tin 8 | K39: 1 | L39: =G39+I39+K39 -> 19 | M39: =L39-19 -> 0
A40: 10 | B40: Phạm Văn Đồng | C40: 28192 | D40: Giáo viên | E40: Toán, Toán | F40: Toán 7B1C1/8 + HĐTN,HN7B1/3+C.Nghệ 9B19C1/3 | G40: 14 | H40: Chủ nhiệm 7B1 | I40: 4 | J40: HSG Toán 7 | K40: 1 | L40: =G40+I40+K40 -> 19 | M40: =L40-19 -> 0
...

Sheet TKB HOCKYITUAN1(07.9->T2(.)L1
A1: TRƯỜNG THCS ĐÔNG HẢI
A2: THỜI KHÓA BIỂU HỌC KÌ I-LẦN 1 NĂM HỌC 2026-2027 Thực hiện từ Tuần 1(07/09/2026) đến hết tuần1(12/9/2026) | X2: THỜI KHÓA BIỂU HỌC KÌ I-LẦN 1 NĂM HỌC 2026-2027 Thực hiện từ Tuần 1(07/09/2026) đến hết tuần1(12/9/2026)
A4: Thứ | B4: Buổi | C4: Tiết | D4: CƠ SỞ 1 | X4: CƠ SỞ 2 | AR4: CƠ SỞ 1 | AS4: CƠ SỞ 2
D5: 9A1- Tr. Thu | F5: 9B1- Yến | H5: 9C1- Thảo | J5: 8A1- Thời | L5: 8B1- Hiệu | N5: 7A1-Thoa | P5: 7B1-Đồng | R5: 7C1-Minh | T5: 6A1- Trang | V5: 6B1- Lệ | X5: 9A2- Oanh | Z5: 9B2- Nguyên | AB5: 8A2- An | AD5: 8B2- Vương | AF5: 8C2- Mậu | AH5: 7A2 - Quang | AJ5: 7B2- Thành | AL5: 6A2- Thủy | AN5: 6B2 - Mây | AP5: 6C2 -Hoa | AR5: TRỰC BGH, TT,TP, TPT, NHÂN VIÊN | AS5: TRỰC BGH, TT,TP, TPT, NHÂN VIÊN
A6: THỨ HAI | B6: SÁNG | C6: 1 | D6: HĐTNHN1 | E6: T.Thu | F6: HĐTNHN1 | G6: Yến | H6: HĐTNHN1 | I6: Thảo | J6: HĐTN,HN3 | K6: Thời | L6: Anh | M6: Luyến | N6: HĐTNHN1 | O6: Hải | P6: HĐTNHN1 | Q6: Đồng | R6: HĐTNHN1 | S6: Phương | T6: HĐTNHN1 | U6: Thanh | V6: HĐTNHN1 | W6: Lệ | X6: HĐTNHN1 | Y6: Biển | Z6: HĐTNHN1 | AA6: Nguyên | AB6: HĐTNHN1 | AC6: Nhung | AD6: KHTN(Sinh) | AE6: Hoa | AF6: KHTN(Lí) | AG6: H.Trang | AH6: HĐTNHN1 | AI6: Quang | AJ6: HĐTNHN1 | AK6: Năm | AL6: NT(Â.Nhạc) | AM6: My | AN6: KHTN | AO6: Huế | AP6: GDCD | AQ6: Mây | AR6: BGH, Điệp, Đ.Thu, Ngọc, Hạnh | AS6: BGH, Hồng, Trang
C7: 2 | D7: KHTN(Lí) | E7: Minh | F7: Văn | G7: Yến | H7: Tin | I7: Hiệu | J7: Anh | K7: Luyến | L7: KHTN(Hóa) | M7: T.Thu | N7: Văn | O7: Vân | P7: Anh | Q7: Phương | R7: Toán | S7: Đồng | T7: Toán | U7: Nga | V7: GDTC | W7: Hải | X7: Văn | Y7: Oanh | Z7: LS&ĐL(Địa) | AA7: Quang | AB7: Toán | AC7: An | AD7: Anh | AE7: Đ.Bình | AF7: KHTN(Hóa) | AG7: Huế | AH7: Anh | AI7: P.Bình | AJ7: Văn | AK7: Mậu | AL7: HĐTNHN1 | AM7: Biển | AN7: Văn | AO7: Thủy | AP7: HĐTNHN1 | AQ7: Hoa
C8: 3 | D8: Tin | E8: Hiệu | F8: LS&ĐL(Sử) | G8: P.Trang | H8: Toán | I8: Thảo | J8: Toán | K8: Nga | L8: KHTN(Hóa) | M8: T.Thu | N8: KHTN | O8: Thoa | P8: Văn | Q8: Vân | R8: Văn | S8: Yến | T8: GDTC | U8: L.Thu | V8: Văn | W8: Thời | X8: GDCD | Y8: Mây | Z8: NT(MT) | AA8: Biển | AB8: NT(Â.Nhạc) | AC8: My | AD8: KHTN(Hóa) | AE8: Huế | AF8: LS&ĐL(Sử) | AG8: Mậu | AH8: KHTN | AI8: H.Trang | AJ8: Toán | AK8: Thành | AL8: Văn | AM8: Thủy | AN8: GDTC | AO8: Sơn | AP8: Toán | AQ8: Đạt
C9: 4 | D9: Văn | E9: Vân | F9: Anh | G9: Luyến | H9: KHTN(Lí) | I9: Minh | J9: Toán | K9: Nga | L9: HĐTN,HN1 | M9: Hiệu | N9: GDTC | O9: L.Thu | P9: Toán | Q9: Đồng | R9: Văn | S9: Yến | T9: NT(MT) | U9: Lệ | V9: LS&ĐL(Địa) | W9: Hiệp | X9: Toán | Y9: Thành | Z9: Toán | AA9: Vương | AB9: KHTN(Lí) | AC9: H.Trang | AD9: KHTN(Hóa) | AE9: Huế | AF9: Anh | AG9: Đ.Bình | AH9: GDTC | AI9: Sơn | AJ9: LS&ĐL(Địa ) | AK9: Quang | AL9: Văn | AM9: Thủy | AN9: Toán | AO9: Đạt | AP9: C.Nghệ | AQ9: Năm
B10: CHIỀU | D10: BỒI DƯỠNG HSG, PHỤ ĐẠO HS YẾU, ÔN LUYỆN THI TS THPT | N10: BỒI DƯỠNG HSG, PHỤ ĐẠO HS YẾU, ÔN LUYỆN THI TS THPT | X10: BỒI DƯỠNG HSG, PHỤ ĐẠO HS YẾU, ÔN LUYỆN THI TS THPT | AJ10: BỒI DƯỠNG HSG, PHỤ ĐẠO HS YẾU, ÔN LUYỆN THI TS THPT | AR10: Vinh | AS10: Thắng
A12: THỨ BA | B12: SÁNG | C12: 1 | D12: GDTC | E12: L.Thu | F12: Văn | G12: Yến | H12: Toán | I12: Thảo | J12: Anh | K12: Luyến | L12: Văn | M12: Thời | N12: NT(MT) | O12: Lệ | P12: Anh | Q12: Phương | R12: KHTN | S12: Minh | T12: LS&ĐL(Địa) | U12: Hiệp | V12: Toán | W12: Nga | X12: Văn | Y12: Oanh | Z12: Văn | AA12: Nguyên | AB12: Toán | AC12: An | AD12: Toán | AE12: Vương | AF12: Anh | AG12: Đ.Bình | AH12: NT(MT) | AI12: Biển | AJ12: Anh | AK12: P.Bình | AL12: KHTN | AM12: Huế | AN12: GDĐP | AO12: Năm | AP12: GDTC | AQ12: Hải | AR12: Thanh, Thắng, Đạt, Đ.Thu, Ngọc, Điệp | AS12: Nhung, Vinh, Vương, Trang, Hồng
C13: 2 | D13: Văn | E13: Vân | F13: GDĐP | G13: Hiệp | H13: Văn | I13: Yến | J13: Anh | K13: Luyến | L13: HĐTN,HN2 | M13: Hiệu | N13: LS&ĐL(Sử) | O13: P.Trang | P13: Anh | Q13: Phương | R13: KHTN | S13: Minh | T13: Văn | U13: Hằng | V13: Toán | W13: Nga | X13: Văn | Y13: Oanh | Z13: GDĐP | AA13: Năm | AB13: KHTN(Hóa) | AC13: Huế | AD13: Toán | AE13: Vương | AF13: Anh | AG13: Đ.Bình | AH13: LS&ĐL(Sử) | AI13: Thủy | AJ13: Anh | AK13: P.Bình | AL13: GDTC | AM13: Sơn | AN13: LS&ĐL(Sử) | AO13: Nguyên | AP13: KHTN | AQ13: Hoa
C14: 3 | D14: Văn | E14: Vân | F14: Toán | G14: Đạt | H14: Văn | I14: Yến | J14: KHTN(Hóa) | K14: T.Thu | L14: Anh | M14: Luyến | N14: Toán | O14: Thảo | P14: LS&ĐL(Sử) | Q14: P.Trang | R14: GDTC | S14: L.Thu | T14: GDĐP | U14: Phương | V14: HĐTN,HN2 | W14: Lệ | X14: GDTC | Y14: Sơn | Z14: Toán | AA14: Vương | AB14: Văn | AC14: Oanh | AD14: Anh | AE14: Đ.Bình | AF14: Toán | AG14: An | AH14: Toán | AI14: Thành | AJ14: LS&ĐL(Sử) | AK14: Thủy | AL14: NT(MT) | AM14: Biển | AN14: HĐTN,HN1 | AO14: Hải | AP14: HĐTN,HN2 | AQ14: Năm
C15: 4 | D15: GDĐP | E15: Hiệp | F15: Toán | G15: Đạt | H15: GDCD | I15: Mây | J15: KHTN(Hóa) | K15: T.Thu | L15: Anh | M15: Luyến | N15: Toán | O15: Thảo | P15: GDTC | Q15: L.Thu | R15: NT(MT) | S15: Lệ | T15: LS&ĐL(Sử) | U15: P.Trang | V15: KHTN | W15: Thoa | X15: GDĐP | Y15: Năm | Z15: Toán | AA15: Vương | AB15: Văn | AC15: Oanh | AD15: Anh | AE15: Đ.Bình | AF15: Toán | AG15: An | AH15: Toán | AI15: Thành | AJ15: GDTC | AK15: Sơn | AL15: Văn | AM15: Thủy | AN15: HĐTN,HN2 | AO15: Hải | AP15: KHTN | AQ15: Hoa
B16: CHIỀU | C16: 1 | D16: LS&ĐL(Địa) | E16: Hiệp | F16: KHTN(Hóa) | G16: T.Thu | H16: NT(Â.Nhạc) | I16: My | J16: KHTN(Sinh) | K16: Thoa | L16: C.Nghệ | M16: Nga | N16: GDĐP | O16: Phương | P16: HĐTN,HN2 | Q16: Đồng | R16: Tin | S16: Hiệu | T16: C.Nghệ | U16: Hải | V16: Văn | W16: Thời | X16: LS&ĐL(Sử) | Y16: Mậu | Z16: KHTN(Hóa) | AA16: Huế | AB16: Tin | AC16: H.Trang | AD16: HĐTN,HN | AE16: Thắng | AF16: KHTN(Sinh) | AG16: Hoa | AH16: LS&ĐL(Địa) | AI16: Quang | AJ16: NT(MT) | AK16: Biển | AL16: GDCD | AM16: Mây | AN16: C.Nghệ | AO16: Năm | AP16: Toán | AQ16: Đạt | AR16: Vinh, Nhung, Điệp | AS16: Thắng, Thanh, Hồng
C17: 2 | D17: LS&ĐL(Địa) | E17: Hiệp | F17: C. Nghệ | G17: Đồng | H17: KHTN(Hóa) | I17: T.Thu | J17: NT(Â. Nhạc) | K17: My | L17: KHTN(Sinh) | M17: Thoa | N17: HĐTNHN2 | O17: Hải | P17: C.Nghệ | Q17: Nga | R17: KHTN | S17: Minh | T17: HĐTN,HN | U17: Vinh | V17: GDDP | W17: Phương | X17: LS&ĐL(Địa) | Y17: Quang | Z17: KHTHN(Lí) | AA17: H.Trang | AB17: KHTN(Hóa) | AC17: Huế | AD17: HĐTN,HN | AE17: Thắng | AF17: HĐTN,HN1 | AG17: Hằng | AH17: Văn | AI17: Thủy | AJ17: HĐTN,HN2 | AK17: Năm | AL17: Anh | AM17: P.Bình | AN17: NT(MT) | AO17: Biển | AP17: Văn | AQ17: Nguyên
C18: 3 | D18: C.Nghệ | E18: Hải | F18: KHTHN(Lí) | G18: Minh | H18: KHTN(Hóa) | I18: T.Thu | J18: C.Nghệ | K18: Nga | L18: NT(Â. Nhạc) | M18: My | N18: KHTN | O18: Thoa | P18: Toán | Q18: Đồng | R18: GDCD | S18: Phương | T18: HĐTN,HN | U18: Vinh | V18: LS&ĐL(Địa) | W18: Hiệp | X18: HĐTN,HN2 | Y18: Biển | Z18: HĐTN,HN2 | AA18: Nguyên | AB18: LS&ĐL(Địa) | AC18: Quang | AD18: C.Nghệ | AE18: Huế | AF18: LS&ĐL(Sử ) | AG18: Mậu | AH18: GDĐP | AI18: Năm | AJ18: KHTN | AK18: H.Trang | AL18: Anh | AM18: P.Bình | AN18: Toán | AO18: Đạt | AP18: Tin | AQ18: Hoa
A19: THỨ TƯ | B19: SÁNG | C19: 1 | D19: Toán | E19: Thảo | F19: GDTC | G19: L.Thu | H19: GDĐP | I19: Hiệp | J19: Văn | K19: Thời | L19: Toán | M19: Vương | N19: Văn | O19: Vân | P19: KHTN | Q19: Minh | R19: Anh | S19: Phương | T19: Toán | U19: Nga | V19: LS&ĐL(Sử) | W19: P.Trang | X19: KHTN(Hóa) | Y19: Huế | Z19: KHTN(Sinh) | AA19: Hoa | AB19: Anh | AC19: Đ.Bình | AD19: Văn | AE19: Oanh | AF19: Toán | AG19: An | AH19: NT(Â.Nhạc) | AI19: Năm | AJ19: GDTC | AK19: Sơn | AL19: LS&ĐL(Địa) | AM19: Quang | AN19: Anh | AO19: P.Bình | AP19: LS&ĐL(Sử) | AQ19: Nguyên | AR19: Thanh, Ngọc, Điệp, Đ. Thu | AS19: Nhung, Đ.Bình, Hồng, Trang
C20: 2 | D20: Toán | E20: Thảo | F20: HĐTN,HN2 | G20: Đạt | H20: Văn | I20: Yến | J20: Toán | K20: Nga | L20: Toán | M20: Vương | N20: Văn | O20: Vân | P20: GDTC | Q20: L.Thu | R20: LS&ĐL(Sử) | S20: P.Trang | T20: LS&ĐL(Địa) | U20: Hiệp | V20: Anh | W20: Luyến | X20: NT(Â. Nhạc) | Y20: My | Z20: KHTN(Hóa) | AA20: Huế | AB20: Anh | AC20: Đ.Bình | AD20: Văn | AE20: Oanh | AF20: GDTC | AG20: Sơn | AH20: Văn | AI20: Thủy | AJ20: KHTN | AK20: H.Trang | AL20: Toán | AM20: An | AN20: Anh | AO20: P.Bình | AP20: Văn | AQ20: Nguyên
C21: 3 | D21: Văn | E21: Vân | F21: KHTN(Hóa) | G21: T.Thu | H21: LS&ĐL(Địa) | I21: Hiệp | J21: C.Nghệ | K21: Nga | L21: NT(MT) | M21: Lệ | N21: GDTC | O21: L.Thu | P21: Tin | Q21: Hiệu | R21: Văn | S21: Yến | T21: GDCD | U21: Phương | V21: Văn | W21: Thời | X21: Toán | Y21: Thành | Z21: Anh | AA21: Đ.Bình | AB21: NT(MT) | AC21: Biển | AD21: C.Nghệ | AE21: Huế | AF21: Văn | AG21: Mậu | AH21: Văn | AI21: Thủy | AJ21: C.Nghệ | AK21: Hải | AL21: Anh | AM21: P.Bình | AN21: NT(Â. Nhạc) | AO21: My | AP21: Văn | AQ21: Nguyên
C22: 4 | D22: HĐTN,HN2 | E22: Đạt | F22: LS&ĐL(Địa) | G22: Hiệp | H22: GDTC | I22: L.Thu | J22: GDĐP | K22: Phương | L22: C.Nghệ | M22: Nga | N22: Toán | O22: Thảo | P22: Văn | Q22: Vân | R22: Văn | S22: Yến | T22: Anh | U22: Luyến | V22: Văn | W22: Thời | X22: Toán | Y22: Thành | Z22: Anh | AA22: Đ.Bình | AB22: GDTC | AC22: Sơn | AD22: NT(Â. Nhạc) | AE22: My | AF22: GDCD | AG22: Mây | AH22: C.Nghệ | AI22: Hải | AJ22: Văn | AK22: Mậu | AL22: Văn | AM22: Thủy | AN22: Tin | AO22: H.Trang | AP22: GDĐP | AQ22: Năm
C23: 5 | D23: NT(MT) | E23: Lệ | F23: LS&ĐL(Địa) | G23: Hiệp | H23: HĐTN,HN2 | I23: Đạt | J23: HĐTNHN2 | K23: Thời | L23: GDĐP | M23: Phương | X23: NT(MT) | Y23: Biển | Z23: NT(Â. Nhạc) | AA23: My | AB23: C.Nghệ | AC23: Huế | AD23: GDCD | AE23: Mây | AF23: C.Nghệ | AG23: Hải
B24: CHIỀU | D24: SINH HOẠT CHUYÊN MÔN, HỌP CÁC ĐOÀN THỂ | N24: SINH HOẠT CHUYÊN MÔN, HỌP CÁC ĐOÀN THỂ | X24: SINH HOẠT CHUYÊN MÔN, HỌP CÁC ĐOÀN THỂ | AJ24: SINH HOẠT CHUYÊN MÔN, HỌP CÁC ĐOÀN THỂ
A26: THỨ NĂM | B26: SÁNG | C26: 1 | D26: Anh | E26: Đ.Bình | F26: Văn | G26: Yến | H26: Anh | I26: Luyến | J26: HĐTN,HN3 | K26: Thời | L26: Tin | M26: Hiệu | N26: Văn | O26: Vân | P26: KHTN | Q26: Minh | R26: GDTC | S26: L.Thu | T26: Văn | U26: Hằng | V26: GDCD | W26: Phương | X26: Anh | Y26: P.Bình | Z26: GDCD | AA26: Mây | AB26: Toán | AC26: An | AD26: KHTN | AE26: H.Trang | AF26: Văn | AG26: Mậu | AH26: Văn | AI26: Thủy | AJ26: Toán | AK26: Thành | AL26: LS&ĐL(Địa) | AM26: Quang | AN26: Toán | AO26: Đạt | AP26: GDTC | AQ26: Hải | AR26: Vinh, Nhung, Đ. Bình, Hạnh, Điệp, Thu, Ngọc | AS26: Thắng, Thanh, Đạt, Trang, Hồng
C27: 2 | D27: Anh | E27: Đ.Bình | F27: Văn | G27: Yến | H27: Anh | I27: Luyến | J27: Toán | K27: Nga | L27: HĐTN,HN3 | M27: Hiệu | N27: GDCD | O27: Phương | P27: KHTN | Q27: Minh | R27: LS&ĐL(Sử) | S27: P.Trang | T27: Văn | U27: Hằng | V27: KHTN | W27: Thoa | X27: Anh | Y27: P.Bình | Z27: C. Nghệ | AA27: Hải | AB27: LS&ĐL(Địa) | AC27: Quang | AD27: HĐTNHN3 | AE27: Thắng | AF27: Toán | AG27: An | AH27: GDCD | AI27: Mây | AJ27: Toán | AK27: Thành | AL27: Tin | AM27: Vương | AN27: Toán | AO27: Đạt | AP27: NT(Â.nhạc) | AQ27: My
C28: 3 | D28: Toán | E28: Thảo | F28: Anh | G28: Luyến | H28: LS&ĐL(Địa) | I28: Hiệp | J28: LS&ĐL(Sử ) | K28: P.Trang | L28: Văn | M28: Thời | N28: Anh | O28: Đ.Bình | P28: Văn | Q28: Vân | R28: Toán | S28: Đồng | T28: Toán | U28: Nga | V28: NT(Â.nhạc) | W28: Lệ | X28: C.Nghệ | Y28: Hải | Z28: Văn | AA28: Nguyên | AB28: GDCD | AC28: Mây | AD28: Toán | AE28: Vương | AF28: NT(Â.nhạc) | AG28: My | AH28: Anh | AI28: P.Bình | AJ28: KHTN | AK28: H.Trang | AL28: Toán | AM28: An | AN28: Văn | AO28: Thủy | AP28: Toán | AQ28: Đạt
C29: 4 | D29: KHTN(Sinh) | E29: Thoa | F29: Anh | G29: Luyến | H29: NT(MT) | I29: Lệ | J29: Văn | K29: Thời | L29: LS&ĐL(Địa) | M29: Hiệp | N29: Anh | O29: Đ.Bình | P29: Văn | Q29: Vân | R29: Toán | S29: Đồng | T29: Toán | U29: Nga | V29: Tin | W29: Hiệu | X29: C.Nghệ | Y29: Hải | Z29: Văn | AA29: Nguyên | AB29: LS&ĐL(Sử) | AC29: Quang | AD29: Toán | AE29: Vương | AF29: HĐTNHN2 | AG29: Thắng | AH29: Anh | AI29: P.Bình | AJ29: KHTN | AK29: H.Trang | AL29: Toán | AM29: An | AN29: Văn | AO29: Thủy | AP29: Toán | AQ29: Đạt
B30: CHIỀU | C30: 1 | D30: C.Nghệ | E30: Hải | F30: GDCD | G30: Mây | H30: LS&ĐL(Sử) | I30: P.Trang | J30: LS&ĐL(Đia) | K30: Hiệp | L30: Toán | M30: Vương | N30: KHTN | O30: Thoa | P30: KHTN | Q30: Minh | R30: Toán | S30: Đồng | T30: Văn | U30: Hằng | V30: NT(MT) | W30: Lệ | X30: Tin | Y30: An | Z30: GDTC | AA30: Sơn | AB30: Văn | AC30: Oanh | AD30: LS&ĐL(Sử) | AE30: Mậu | AF30: HĐTN,HN3 | AG30: Nhung | AH30: KHTN | AI30: H.Trang | AJ30: HĐTN,HN3 | AK30: Năm | AL30: KHTN | AM30: Huế | AN30: Anh | AO30: P.Bình | AP30: NT(MT) | AQ30: Biển | AR30: Thanh, Thắng, Vương, Đ. Thu | AS30: Nhung, Vinh, Ngọc
C31: 2 | D31: GDCD | E31: Mây | F31: NT(Â. Nhạc) | G31: My | H31: C.Nghệ | I31: Đồng | J31: NT(MT) | K31: Lệ | L31: Toán | M31: Vương | N31: KHTN | O31: Thoa | P31: GDĐP | Q31: Phương | R31: LS&ĐL(Địa) | S31: Hiệp | T31: KHTN | U31: T.Thu | V31: GDTC | W31: Hải | X31: Anh | Y31: P.Bình | Z31: LS&ĐL(Sử) | AA31: Mậu | AB31: HĐTN,HN2 | AC31: Nhung | AD31: Tin | AE31: H.Trang | AF31: NT(MT) | AG31: Biển | AH31: GDTC | AI31: Sơn | AJ31: NT(Â. Nhạc) | AK31: Năm | AL31: Toán | AM31: An | AN31: KHTN | AO31: Huế | AP31: Văn | AQ31: Nguyên
C32: 3 | D32: NT(Â. Nhạc) | E32: My | F32: GDTC | G32: L.Thu | H32: C.Nghệ | I32: Đồng | J32: Tin | K32: Hiệu | L32: LS&ĐL(Sử) | M32: P.Trang | N32: HĐTN,HN3 | O32: Hải | P32: NT(MT) | Q32: Lệ | R32: HĐTN,HN2 | S32: Phương | T32: KHTN | U32: T.Thu | V32: C.Nghệ | W32: Hiệp | X32: Văn | Y32: Oanh | Z32: HĐTN,HN3 | AA32: Nguyên | AB32: HĐTN,HN3 | AC32: Nhung | AD32: NT(MT) | AE32: Biển | AF32: Văn | AG32: Mậu | AH32: KHTN | AI32: H.Trang | AJ32: GDĐP | AK32: Năm | AL32: GDTC | AM32: Sơn | AN32: KHTN | AO32: Huế | AP32: Anh | AQ32: P.Bình
A33: THỨ SÁU | B33: SÁNG | C33: 1 | D33: Toán | E33: Thảo | F33: Toán | G33: Đạt | H33: Văn | I33: Yến | J33: LS&ĐL(Sử ) | K33: P.Trang | L33: Văn | M33: Thời | N33: Tin | O33: Hiệu | P33: Toán | Q33: Đồng | R33: KHTN | S33: Minh | T33: GDTC | U33: L.Thu | V33: Toán | W33: Nga | X33: KHTN(Sinh) | Y33: Hoa | Z33: Văn | AA33: Nguyên | AB33: Văn | AC33: Oanh | AD33: LS&ĐL(Địa ) | AE33: Quang | AF33: GDTC | AG33: Sơn | AH33: Toán | AI33: Thành | AJ33: Văn | AK33: Mậu | AL33: LS&ĐL(Sử) | AM33: Hiệp | AN33: LS&ĐL(Địa) | AO33: Vân | AP33: Anh | AQ33: P.Bình | AR33: Vinh, Đạt, Điệp, Đ. Thu, Ngọc | AS33: Thắng, Vương, Hồng, Trang
C34: 2 | D34: LS&ĐL(Sử) | E34: P.Trang | F34: Toán | G34: Đạt | H34: KHTN(Sinh) | I34: Thoa | J34: GDTC | K34: L.Thu | L34: Văn | M34: Thời | N34: Toán | O34: Thảo | P34: Toán | Q34: Đồng | R34: Anh | S34: Phương | T34: Tin | U34: Hiệu | V34: Toán | W34: Nga | X34: LS&ĐL(Địa) | Y34: Quang | Z34: Tin | AA34: An | AB34: KHTN(Sinh) | AC34: Hoa | AD34: GDTC | AE34: Sơn | AF34: GDĐP | AG34: Năm | AH34: Toán | AI34: Thành | AJ34: Văn | AK34: Mậu | AL34: KHTN | AM34: Huế | AN34: LS&ĐL(Địa) | AO34: Vân | AP34: Anh | AQ34: P.Bình
C35: 3 | D35: GDTC | E35: L.Thu | F35: Tin | G35: Hiệu | H35: Toán | I35: Thảo | J35: Văn | K35: Thời | L35: LS&ĐL(Sử ) | M35: P.Trang | N35: Anh | O35: Đ.Bình | P35: HĐTN,HN3 | Q35: Đồng | R35: Anh | S35: Phương | T35: KHTN | U35: T.Thu | V35: Anh | W35: Luyến | X35: GDTC | Y35: Sơn | Z35: LS&ĐL(Địa) | AA35: Quang | AB35: Toán | AC35: An | AD35: Văn | AE35: Oanh | AF35: Văn | AG35: Mậu | AH35: HĐTN,HN2 | AI35: Hiệp | AJ35: Anh | AK35: P.Bình | AL35: KHTN | AM35: Huế | AN35: GDCD | AO35: Mây | AP35: LS&ĐL(Địa) | AQ35: Vân
C36: 4 | D36: Anh | E36: Đ.Bình | F36: C. Nghệ | G36: Đồng | H36: Toán | I36: Thảo | J36: Văn | K36: Thời | L36: GDTC | M36: L.Thu | N36: C.Nghệ | O36: Nga | P36: GDCD | Q36: Phương | R36: C.Nghệ | S36: Hiệu | T36: KHTN | U36: T.Thu | V36: Anh | W36: Luyến | X36: Toán | Y36: Thành | Z36: Toán | AA36: Vương | AB36: C.Nghệ | AC36: Huế | AD36: Văn | AE36: Oanh | AF36: LS&ĐL(Địa ) | AG36: Quang | AH36: HĐTN,HN3 | AI36: Hiệp | AJ36: GDCD | AK36: Mây | AL36: C.Nghệ | AM36: Năm | AN36: GDTC | AO36: Sơn | AP36: LS&ĐL(Địa) | AQ36: Vân
B37: CHIỀU | C37: 1 | D37: KHTN(Hóa) | E37: T. Thu | F37: KHTN(Sinh) | G37: Thoa | H37: HĐTN,HN3 | I37: Thảo | J37: GDCD | K37: Mây | L37: GDTC | M37: L.Thu | N37: LS&ĐL(Địa) | O37: Thanh | P37: LS&ĐL(Sử) | Q37: P.Trang | R37: NT(Â. Nhạc) | S37: My | T37: Anh | U37: Luyến | V37: HĐTN,HN3 | W37: Lệ | X37: KHTN(Lí) | Y37: H.Trang | Z37: GDTC | AA37: Sơn | AB37: GDĐP | AC37: Năm | AD37: LS&ĐL(Sử ) | AE37: Mậu | AF37: KHTN(Hóa) | AG37: Huế | AH37: Tin | AI37: Thành | AJ37: LS&ĐL(Sử) | AK37: Thủy | AL37: HĐTNHN2 | AM37: Biển | AN37: HĐTN,HN3 | AO37: Hải | AP37: KHTN | AQ37: Hoa | AR37: Thanh, Đạt, Hạnh | AS37: Nhung, Đ.Bình, Trang
C38: 2 | D38: KHTN(Hóa) | E38: T. Thu | F38: NT(MT) | G38: Lệ | H38: GDTC | I38: L.Thu | J38: KHTN(Lí) | K38: Minh | L38: GDCD | M38: Mây | N38: NT(Â. Nhạc) | O38: My | P38: LS&ĐL(Địa) | Q38: Thanh | R38: GDĐP | S38: Phương | T38: Anh | U38: Luyến | V38: KHTN | W38: Thoa | X38: KHTN(Hóa) | Y38: Huế | Z38: Anh | AA38: Đ.Bình | AB38: GDTC | AC38: Sơn | AD38: GDĐP | AE38: Năm | AF38: C.Nghệ | AG38: Hải | AH38: KHTN | AI38: H.Trang | AJ38: Toán | AK38: Thành | AL38: HĐTN,HN3 | AM38: Biển | AN38: Văn | AO38: Thủy | AP38: KHTN | AQ38: Hoa
C39: 3 | D39: HĐTN,HN3 | E39: T. Thu | F39: HĐTN,HN3 | G39: Yến | H39: Anh | I39: Luyến | J39: GDTC | K39: L.Thu | L39: KHTN(Lí) | M39: Minh | N39: LS&ĐL(Sử) | O39: P.Trang | P39: NT(Â. Nhạc) | Q39: My | R39: HĐTN,HN3 | S39: Phương | T39: NT(Â. Nhạc) | U39: Lệ | V39: KHTN | W39: Thoa | X39: HĐTN,HN3 | Y39: Biển | Z39: C. Nghệ | AA39: Hải | AB39: Anh | AC39: Đ.Bình | AD39: GDTC | AE39: Sơn | AF39: Tin | AG39: H.Trang | AH39: LS&ĐL(Sử) | AI39: Thủy | AJ39: Tin | AK39: Thành | AL39: GDĐP | AM39: Năm | AN39: KHTN | AO39: Huế | AP39: HĐTN,HN3 | AQ39: Hoa
A40: THỨ BẨY | B40: SÁNG-CHIỀU | X40: NGHỈ
N42: HIỆU TRƯỞNG DUYỆT | S42: PHÓ HIỆU TRƯỞNG PHỤ TRÁCH CHUYÊN MÔN
N44: Phan Văn Vinh | S44: Đỗ Văn Thắng

Sheet PCLDHKI26-27T1(7.9)->....L2
A1: TRƯỜNG THCS ĐÔNG HẢI
A2: Số: 02 /BCPCLĐ - THCSĐH
A3: BÁO CÁO PHÂN CÔNG LAO ĐỘNG HỌC KỲ I NĂM HỌC 2026 - 2027
A4: LẦN 2(Số liệu tính đến ngày 14/9/2026 Đến …../…../2026)
A5: A. SỐ LỚP, HỌC SINH
B6: K6 | C6: K7 | D6: K8 | E6: K9 | F6: CỘNG
A7: Lớp | B7: 5 | C7: 5 | D7: 5 | E7: 5 | F7: =SUM(B7:E7) -> 20
A8: Học sinh | B8: 205 | C8: 209 | D8: 198 | E8: 199 | F8: =SUM(B8:E8) -> 811
A9: Nữ | B9: 102 | C9: 88 | D9: 107 | E9: 90 | F9: =SUM(B9:E9) -> 387
A10: B. PHÂN CÔNG LAO ĐỘNG
A11: TT | B11: Họ và tên | C11: Ng,th năm sinh | D11: Chức vụ | E11: Trình độ CM | F11: Ngành ĐT(ĐHSP-CĐSP) | G11: Mã ngạch | H11: Công việc được phân công | I11: Số tiết | J11: Ôn HSG | K11: Thuộc diện | M11: Ghi chú
H12: Phân công chuyên môn | K12: BC | L12: HĐ | M12: Tin học | N12: NN | O12: Đảng viên
A13: I | B13: BAN GIÁM HIỆU
A14: 1 | B14: Phan Văn Vinh | C14: 29100 | D14: Hiệu trưởng | E14: Thạc sĩ QLGD, Đại học | F14: Toán, Toán-Lí | G14: V.07.04.31 | H14: Phụ trách chung, công tác cán bộ, vc, tài chính, chế độ cho CBGV, Khen thưởng+ HĐTN,HN 6A1/2 | I14: ='PCCMHOCKYI26-27(7.9->...)L1'!L31 -> 2 | K14: x | M14: B | N14: B1 | O14: x
A15: 2 | B15: Vũ Hải Thanh | C15: 25549 | D15: P.Hiệu trưởng | E15: Đại học | F15: Ngữ văn, Văn-Địa | G15: V.07.04.31 | H15: Phụ trách PCGD,XMC, lao động, CSVC cơ sở 1, phụ trách tổ Văn phòng, hồ sơ kiểm định mảng mình phụ trách | I15: ='PCCMHOCKYI26-27(7.9->...)L1'!L41 -> 4 | K15: x | M15: B | N15: B1 | O15: x
A16: 3 | B16: Vũ Thị Hồng Nhung | C16: 16/12/1979 | D16: P.Hiệu trưởng | E16: Thạc sĩ QLGD, Đại học | F16: Lịc Sử, Văn-Sử | G16: V.07.04.31 | H16: Phụ trách lao động, cơ sở vật chất CS2; đời sống GV, Hồ sơ phòng cháy chữa cháy, Hồ sơ kiểm định mảng phụ trách Tổ KHXH; HĐTN,HN 8A2/3, HĐTN,HN 8C1/1, các cuộc thi giáo viên thuộc tổ mình quản lí | I16: ='PCCMHOCKYI26-27(7.9->...)L1'!L8 -> 4 | K16: x | M16: B | N16: B1 | O16: x
A17: 4 | B17: Đỗ Văn Thắng | C17: 02/01/1979 | D17: P.Hiệu trưởng | E17: Thạc sĩ QLGD, Đại học | F17: Hóa học, Hóa-Sinh | G17: V.07.04.30 | H17: Phụ trách công tác chuyên môn hai cơ sở; học sinh các cuộc thi giáo viên thuộc tổ quản lí, Hồ sơ kiểm định mảng phụ trách, Tổ KHTN+ HĐTN,HN8B2/3+HĐTN,HN8C2/1 | I17: ='PCCMHOCKYI26-27(7.9->...)L1'!L18 -> 4 | K17: x | M17: B | N17: B1 | O17: x
A18: II | B18: TỔ VĂN PHÒNG
A19: 1 | B19: Mai Thị Hồng | C19: 25/12/1979 | D19: TTT Văn phòng | E19: Đại học | F19: Y tế(CNĐD) | G19: V.08.05.13 | H19: Công tác ytế CS2, BH, Vệ sinh học đường CS2 | K19: x | M19: A | N19: B | O19: x
A20: 2 | B20: Đoàn Thị Điệp | C20: 26600 | D20: TPT Văn phòng | E20: Trung cấp | F20: Y tế | G20: V.08.03.07 | H20: Công tác ytế CS1, BH, Vệ sinh học đường CS1 | K20: x | M20: B | N20: B | O20: x
A21: 3 | B21: Trương Thị Hạnh | C21: 15/10/1980 | D21: Nhân viên | E21: Đại học | F21: Kế toán | G21: V.06.031 | H21: Kế toán, tài chính, chế độ CB,VC | K21: x | M21: B | N21: B | O21: x
A22: 4 | B22: Phạm Thị Ánh Ngọc | C22: 04/04/1986 | D22: Tổ trưởng | E22: Cao đẳng | F22: Văn Thư | G22: 02.008 | H22: Công tác Văn thư | K22: x | M22: B | N22: B | O22: x
A23: 5 | B23: Đào Lệ Diệu Thu | C23: 31856 | D23: Nhân viên | E23: Trung cấp | F23: Thiết bị | G23: V.10.02.07 | H23: Công tác thiết bị | K23: x | M23: B | N23: B
A24: 6 | B24: Trần Thùy Trang | C24: 18/11/1991 | D24: Nhân viên | E24: Đại học | F24: Thư viện | G24: V.10.02.06 | H24: Công tác Thư viện | K24: x | M24: B | N24: B | O24: x
A25: III | B25: TỔ XÃ HỘI
A26: 1 | B26: Phạm Thị Vân | C26: 16/03/1978 | D26: TTTKHXH | E26: Đại học | F26: Ngữ văn, Văn-Địa | G26: V.07.04.31 | H26: Văn 9A1/4+Văn 7A1B1/8+LS&ĐL(Địa) 6B26C2/3 | I26: ='PCCMHOCKYI26-27(14.9->...)L2'!L9 -> 19 | K26: x | M26: B | N26: B1 | O26: x
A27: 2 | B27: Phạm Xuân Thời | C27: 03/02/1974 | D27: Giáo viên | E27: Đại học | F27: Ngữ văn, Văn-Sử | G27: V.07.04.31 | H27: Văn 8A1B1/8+Văn 6B1/4+HĐTN,HN8A1/3 | I27: ='PCCMHOCKYI26-27(14.9->...)L2'!L10 -> 20 | K27: x | M27: B | N27: B1
A28: 3 | B28: Nguyễn Thị Hải Yến | C28: 03/02/1981 | D28: Giáo viên | E28: Đại học | F28: Ngữ văn, Văn | G28: V.07.04.32 | H28: Văn 9B1C1/8+Văn 7C1/4+HĐTN,HN 9B1/2 | I28: ='PCCMHOCKYI26-27(14.9->...)L2'!L11 -> 19 | K28: x | M28: B | N28: B1 | O28: x
A29: 4 | B29: Đinh Văn Phương | C29: 21/11/1973 | D29: Giáo viên | E29: Đại học | F29: Tiếng Anh | G29: V.07.04.32 | H29: Anh 7B1,C1/6 + GDĐP6A1B1/2+ GDDP7A1,B1.C1/3+GDDP 8A1,B1/2+GDCD6A1,B1/2+GDCD7A1B1C1 | I29: ='PCCMHOCKYI26-27(14.9->...)L2'!L12 -> 19 | K29: x | M29: B | N29: B2
A30: 5 | B30: Phạm Văn Bình | C30: 16/02/1981 | D30: Giáo viên | E30: Đại học | F30: Tiếng Anh | G30: V.07.04.31 | H30: Anh9A2/3+Anh 6A2,B2,C2/9+Anh 7A2,B2/6 | I30: ='PCCMHOCKYI26-27(14.9->...)L2'!L13 -> 19 | K30: x | M30: B | N30: ĐH | O30: x
A31: 6 | B31: Phạm Thị Trang | C31: 15/02/1991 | D31: Giáo viên | E31: Đại học | F31: ĐH Lịch sử, ĐH Sử-Địa | G31: V.07.04.32 | H31: LS&ĐL(L.Sử)9A1B1C1/4.5+ LS&ĐL(L.Sử)8A1B1/3+ LS&ĐL(L.Sử) 7A1B1C1/4.5+LS&ĐL(L.Sử)6A1B1/3 | I31: ='PCCMHOCKYI26-27(14.9->...)L2'!L14 -> 20 | K31: x | M31: B | N31: B | O31: x
A32: 7 | B32: Phạm Thị Hằng | C32: 05/01/1980 | D32: Giáo viên | E32: Đại học | F32: Ngữ văn, Văn-Sử | G32: V.07.04.31 | H32: Ngữ văn 6A1/4+ HĐTN,HN7C1/2 | I32: ='PCCMHOCKYI26-27(14.9->...)L2'!L15 -> 20 | K32: x | M32: A | N32: B | O32: x
A33: 8 | B33: Trần Thị Mai Lệ | C33: 29/08/1988 | D33: Giáo viên | E33: Đại học | F33: Mỹ thuật | G33: V.07.04.31 | H33: N.thuật(MT+ÂN)6A1B1/4+NT(MT)7A1B1C1/3+NT(MT)8A1B1/2+NT(MT)9A1B1C1/3+HĐTH,HN6B1/3 | I33: ='PCCMHOCKYI26-27(14.9->...)L2'!L16 -> 19 | K33: x | M33: A | N33: A1 | O33: x
A34: 9 | B34: Phạm Thị Ngọc Mây | C34: 02/4/2000 | D34: Giáo viên | E34: Đại học | F34: GDCD | G34: HĐ111 | H34: GDCD9A19B19C1,9A29B2/5+GDCD8A18B1,8A2,8B2,8C2/5+GDCD7A2B2/2+ GDCD6A2,6B2,6C2/3 | I34: ='PCCMHOCKYI26-27(14.9->...)L2'!L17 -> 19 | L34: x | M34: B | N34: A2
A35: 10 | B35: Đào Thị Nam Bình | C35: 18/05/1977 | D35: TPTKHXH | E35: Đại học | F35: Tiếng Anh | G35: V.07.04.31 | H35: Anh 9A1,9B2/6 + Anh 8A2B2C2/9+Anh7A1/3 | I35: ='PCCMHOCKYI26-27(7.9->...)L1'!L19 -> 20 | K35: x | M35: B | N35: ĐH | O35: x
A36: 11 | B36: Nguyễn Văn Mậu | C36: 16/11/1978 | D36: Giáo viên | E36: Đại học | F36: Ngữ văn-Sử, Văn -Sử | G36: V.07.04.31 | H36: Văn 8C2/4 + Văn 7B2/4+ LS&ĐL(Sử) 8B2C2/3+Sử 9A2B2/3 | I36: ='PCCMHOCKYI26-27(7.9->...)L1'!L20 -> 19 | K36: x | M36: B | N36: B1 | O36: x
A37: 12 | B37: Nguyễn T.Thuý Năm | C37: 19/01/1975 | D37: Giáo viên | E37: Đại học | F37: Tiếng Anh | G37: V.07.04.31 | H37: GDĐP6A2B2C2/3+GDĐP7A2B2/2+GDDDDP8A2,B2C2/3+GDDP9A2B2/2+HĐTN,HN 7B2/3+C.Nghệ 6A2B2C2/3+NT(Â. Nhạc)7A2B2/2+HĐTN,HN6C2/1 | I37: ='PCCMHOCKYI26-27(7.9->...)L1'!L21 -> 19 | K37: x | M37: A | N37: ĐH
A38: 13 | B38: Vũ Thị Hồng Oanh | C38: 22/01/1979 | D38: Giáo viên | E38: Đại học | F38: Ngữ văn, Văn-GDCD | G38: V.07.04.31 | H38: Văn 9A2/4+Văn 8A2B2/8 | I38: ='PCCMHOCKYI26-27(7.9->...)L1'!L22 -> 19 | K38: x | M38: B | N38: B1 | O38: x
A39: 14 | B39: Nguyễn Thị Thu Thuỷ | C39: 20/03/1978 | D39: Giáo viên | E39: Đại học | F39: Ngữ Văn, Văn-Sử | G39: V.07.04.31 | H39: Văn 7A2/4 +Văn 6A2B2/8+LS&ĐL(Sử) 7A27B2/3 | I39: ='PCCMHOCKYI26-27(7.9->...)L1'!L23 -> 20 | K39: x | M39: B | N39: B1 | O39: x
A40: 15 | B40: Phạm Văn Quang | C40: 08/08/1981 | D40: Giáo viên | E40: Đại học | F40: Địa lí, Sử-Địa | G40: V.07.04.32 | H40: Địa 9A2B2/3 + Địa 8A2B2C2/4.5 + LS&ĐL(Địa) 7A2B2/3+ LS&ĐL(Địa) 6A2/1,5+LS&ĐL(Sử)8A2/1,5+HĐTN,HN 7A2/1 | I40: ='PCCMHOCKYI26-27(7.9->...)L1'!L24 -> 19.5 | K40: x | M40: B | N40: B1 | O40: x
...

Sheet PCCMHOCKYI26-27(14.9->...)L2
A1: TRƯỜNG THCS ĐÔNG HẢI Số: /PCCM- THCS KTr
A2: PHÂN CÔNG CHUYÊN MÔN HỌC KÌ I NĂM HỌC 2026-2027
A3: Lần 2: Thực hiện từ Tuần 1(14/09/2026) đến hết tuần ...(......../....../....)
A4: TT | B4: Họ và tên | C4: Ng,th, năm sinh | D4: Chức vụ | E4: Ngành ĐT(ĐHSP-CĐSP) | F4: Tổng số tiết lao động | L4: Tổng số tiết lao động (1+2+3) | M4: Tiết thừa theo quy định | N4: Ghi chú
F5: Giảng dạy | G5: Số tiết thực giảng | H5: Kiêm nhiệm | I5: Số tiết kiêm nhiệm | J5: Việc khác | K5: Số tiết khác
G6: 1 | I6: 2 | K6: 3
A7: I | B7: Tổ KHXH
A8: 1 | B8: Vũ Hải Thanh | C8: 25549 | D8: P.Hiệu trưởng | E8: Ngữ văn, Văn-Địa | F8: LS&ĐL(Địa)7A1B1/3+HDTN,HN 6A1/1 | G8: 4 | L8: =G8+I8+K8 -> 4 | M8: =L8-4 -> 0
A9: 2 | B9: Phạm Thị Vân | C9: 16/03/1978 | D9: TTTKHXH | E9: Ngữ văn, Văn-Địa | F9: Văn 9A1/4+Văn 7A1B1/8+LS&ĐL(Địa) 6B26C2/3 | G9: 15 | H9: TT KHXH | I9: 3 | J9: HSG Văn 7 | K9: 1 | L9: =G9+I9+K9 -> 19 | M9: =L9-19 -> 0
A10: 3 | B10: Phạm Xuân Thời | C10: 03/02/1974 | D10: Giáo viên | E10: Ngữ văn, Văn-Sử | F10: Văn 8A1B1/8+Văn 6B1/4+HĐTN,HN8A1/3 | G10: 15 | H10: Chủ nhiệm 8A1 | I10: 4 | J10: HSG Văn 8 | K10: 1 | L10: =G10+I10+K10 -> 20 | M10: =L10-19 -> 1
A11: 4 | B11: Nguyễn Thị Hải Yến | C11: 03/02/1981 | D11: Giáo viên | E11: Ngữ văn, Văn | F11: Văn 9B1C1/8+Văn 7C1/4+HĐTN,HN 9B1/2 | G11: 14 | H11: Chủ nhiệm 9B1 | I11: 4 | J11: HSG Văn 9 | K11: 1 | L11: =G11+I11+K11 -> 19 | M11: =L11-19 -> 0
A12: 5 | B12: Đinh Văn Phương | C12: 21/11/1973 | D12: Giáo viên | E12: Tiếng Anh | F12: Anh 7B1,C1/6 + GDĐP6A1B1/2+ GDDP7A1,B1.C1/3+GDDP 8A1,B1/2+GDCD6A1,B1/2+GDCD7A1B1C1 | G12: 18 | J12: HSG Anh 7 | K12: 1 | L12: =G12+I12+K12 -> 19 | M12: =L12-19 -> 0
A13: 6 | B13: Phạm Văn Bình | C13: 16/02/1981 | D13: Giáo viên | E13: Tiếng Anh | F13: Anh9A2/3+Anh 6A2,B2,C2/9+Anh 7A2,B2/6 | G13: 18 | J13: HSG Anh 6 | K13: 1 | L13: =G13+I13+K13 -> 19 | M13: =L13-19 -> 0
A14: 7 | B14: Phạm Thị Trang | C14: 15/02/1991 | D14: Giáo viên | E14: ĐH Lịch sử, ĐH Sử-Địa | F14: LS&ĐL(L.Sử)9A1B1C1/4.5+ LS&ĐL(L.Sử)8A1B1/3+ LS&ĐL(L.Sử) 7A1B1C1/4.5+LS&ĐL(L.Sử)6A1B1/3 | G14: 15 | H14: Chủ nhiệm 6A1 | I14: 4 | J14: HSG Sử 9 | K14: 1 | L14: =G14+I14+K14 -> 20 | M14: =L14-19 -> 1
A15: 8 | B15: Phạm Thị Hằng | C15: 05/01/1980 | D15: Giáo viên | E15: Ngữ văn, Văn-Sử | F15: Ngữ văn 6A1/4+ HĐTN,HN7C1/2 | G15: 6 | H15: Tổng phụ trách | I15: 13 | J15: HSG Văn 6 | K15: 1 | L15: =G15+I15+K15 -> 20 | M15: =L15-19 -> 1
A16: 9 | B16: Trần Thị Mai Lệ | C16: 29/08/1988 | D16: Giáo viên | E16: Mỹ thuật | F16: N.thuật(MT+ÂN)6A1B1/4+NT(MT)7A1B1C1/3+NT(MT)8A1B1/2+NT(MT)9A1B1C1/3+HĐTH,HN6B1/3 | G16: 15 | H16: Chủ nhiệm 6B1 | I16: 4 | L16: =G16+I16+K16 -> 19 | M16: =L16-19 -> 0
A17: 10 | B17: Phạm Thị Ngọc Mây | C17: 02/4/2000 | D17: Giáo viên | E17: GDCD | F17: GDCD9A19B19C1,9A29B2/5+GDCD8A18B1,8A2,8B2,8C2/5+GDCD7A2B2/2+ GDCD6A2,6B2,6C2/3 | G17: 15 | H17: Chủ nhiệm 6B2 | I17: 4 | L17: =G17+I17+K17 -> 19 | M17: =L17-19 -> 0 | N17: HĐ111
A18: 11 | B18: Vũ Thị Hồng Nhung | C18: 16/12/1979 | D18: P.Hiệu trưởng | E18: Lịc Sử, Văn-Sử | F18: HĐTN,HN8A2/3+HĐTN,HN8C2/1 | G18: 4 | L18: =G18+I18+K18 -> 4 | M18: =L18-4 -> 0
A19: 12 | B19: Đào Thị Nam Bình | C19: 18/05/1977 | D19: TPKHXH | E19: Tiếng Anh | F19: Anh 9A1,9B2/6 + Anh 8A2B2C2/9+Anh7A1/3 | G19: 18 | H19: TPTKHXH | I19: 1 | J19: HSG Anh 9 | K19: 1 | L19: =G19+I19+K19 -> 20 | M19: =L19-19 -> 1
A20: 13 | B20: Nguyễn Văn Mậu | C20: 16/11/1978 | D20: Giáo viên | E20: Ngữ văn-Sử, Văn -Sử | F20: Văn 8C2/4 + Văn 7B2/4+ LS&ĐL(Sử) 8B2C2/3+Sử 9A2B2/3 | G20: 14 | H20: Chủ nhiệm 8C2 | I20: 4 | J20: HSG Sử 9 | K20: 1 | L20: =G20+I20+K20 -> 19 | M20: =L20-19 -> 0
A21: 14 | B21: Nguyễn T.Thuý Năm | C21: 19/01/1975 | D21: Giáo viên | E21: Tiếng Anh | F21: GDĐP6A2B2C2/3+GDĐP7A2B2/2+GDDDDP8A2,B2C2/3+GDDP9A2B2/2+HĐTN,HN 7B2/3+C.Nghệ 6A2B2C2/3+NT(Â. Nhạc)7A2B2/2+HĐTN,HN6C2/1 | G21: 19 | L21: =G21+I21+K21 -> 19 | M21: =L21-19 -> 0
A22: 15 | B22: Vũ Thị Hồng Oanh | C22: 22/01/1979 | D22: Giáo viên | E22: Ngữ văn, Văn-GDCD | F22: Văn 9A2/4+Văn 8A2B2/8 | G22: 12 | H22: TKHĐ/2 + Chủ nhiệm 9A2 | I22: 6 | J22: HSG Văn 8 | K22: 1 | L22: =G22+I22+K22 -> 19 | M22: =L22-19 -> 0
A23: 16 | B23: Nguyễn Thị Thu Thuỷ | C23: 20/03/1978 | D23: Giáo viên | E23: Ngữ Văn, Văn-Sử | F23: Văn 7A2/4 +Văn 6A2B2/8+LS&ĐL(Sử) 7A27B2/3 | G23: 15 | H23: Chủ nhiệm 6A2 | I23: 4 | J23: HSG Văn 6 | K23: 1 | L23: =G23+I23+K23 -> 20 | M23: =L23-19 -> 1
A24: 17 | B24: Phạm Văn Quang | C24: 08/08/1981 | D24: Giáo viên | E24: Địa lí, Sử-Địa | F24: Địa 9A2B2/3 + Địa 8A2B2C2/4.5 + LS&ĐL(Địa) 7A2B2/3+ LS&ĐL(Địa) 6A2/1,5+LS&ĐL(Sử)8A2/1,5+HĐTN,HN 7A2/1 | G24: 14.5 | H24: Chủ nhiệm 7A2 | I24: 4 | J24: HSG Địa 8 | K24: 1 | L24: =G24+I24+K24 -> 19.5 | M24: =L24-19 -> 0.5
A25: 18 | B25: Nguyễn Thế Biển | C25: 15/11/1990 | D25: Giáo viên | E25: Mĩ Thuật | F25: NT(MT)8A2B2C2/3+NT(MT)9A2B2/2+NT(MT)6A2B2C2/3+NT(MT)7A2B2/2+ HĐTN,HN9A2/3+HĐTN,HN6A2/3 | G25: 16 | H25: Tư vấn/3 | I25: 3 | L25: =G25+I25+K25 -> 19 | M25: =L25-19 -> 0
A26: 19 | B26: Lê Thị Nguyên | C26: 25/10/1979 | D26: Giáo viên | E26: Ngữ Văn, Văn-Sử | F26: Văn 9B2/4+Văn 6C2/4+LS&ĐL(Sử)6B2C2/3+HĐTN,HN9B2/3 | G26: 14 | H26: Chủ nhiệm 9B2 | I26: 4 | J26: HSG Văn 9 | K26: 1 | L26: =G26+I26+K26 -> 19 | M26: =L26-19 -> 0
A27: 20 | B27: Phạm Thị My | C27: 20/10/1988 | D27: Giáo viên | E27: Âm Nhạc | F27: NT(Â. Nhạc)8A1B18A2B2C2/5+NT(Â. Nhạc)9A1B1C1A2B2/5+NT(Â. Nhạc)7A1B1C1/3+NT(Â. Nhạc)6A2B2C2/3 | G27: 16 | L27: =G27+I27+K27 -> 16 | M27: =L27-16 -> 0 | N27: Con <12 T
A28: 21 | B28: Đặng Thị Luyến | C28: 24/08/1993 | D28: Giáo viên | E28: Ngôn ngữ Anh, Tiếng anh | F28: Anh 8A1B1/6+Anh 6A1,B1/6+Anh 9B1,9C1/6 | G28: 18 | J28: HSG Anh 8 | K28: 1 | L28: =G28+I28+K28 -> 19 | M28: =L28-19 -> 0 | N28: HĐ111
A29: 22 | B29: Nguyễn Tiến Hiệp | C29: 09/11/2004 | D29: Giáo viên | E29: Địa Lí | F29: LS&ĐL(Địa)6A1B1/3+LS&ĐL(Địa)7C1/1.5+LS&ĐL(Địa)8A1B1/3 +LS&ĐL(Địa)9A1B1C1/4,5+GDDP9A1,B1,C1/3+C.Nghệ 6B1/1+HĐTN,HN 7A2/2+ LS&ĐL(Sử) 6A2/1,5 | G29: 19.5 | L29: =G29+I29+K29 -> 19.5 | M29: =L29-19 -> 0.5 | N29: HĐ111
A30: II | B30: Tổ KHTN
A31: 1 | B31: Phan Văn Vinh | C31: 02/9/1976 | D31: Hiệu trưởng | E31: Toán, Toán-Lí | F31: HĐTN, HN 6A1/2 | G31: 2 | L31: =G31+I31+K31 -> 2 | M31: =L31-2 -> 0
A32: 2 | B32: Nguyễn Trọng Đạt | C32: 01/05/1978 | D32: TTTKHTN | E32: Toán, Toán-Tin | F32: Toán 6B2C2/8 + Toán 9B1/4 +HĐTN,HN9A1B1C1/3 | G32: 15 | H32: TT KHTN | I32: 3 | J32: HSG Toán 6 | K32: 1 | L32: =G32+I32+K32 -> 19 | M32: =L32-19 -> 0
A33: 3 | B33: Lê Thị Thanh Nga | C33: 03/09/1979 | D33: Giáo viên | E33: Toán, Toán-Lí | F33: Toán 8A1/4+ Toán 6A1B1/8+C.Nghệ 8A1B1/3+C.Nghệ 7A1B1/2 | G33: 17 | J33: HSG Toán 8,6 | K33: 2 | L33: =G33+I33+K33 -> 19 | M33: =L33-19 -> 0
A34: 4 | B34: Đỗ Thị Thảo | C34: 20/10/1978 | D34: Giáo viên | E34: Toán, Toán | F34: Toán 9A1,9C1/8 + Toán 7A1/4 + HĐTN,HN9C1/2 | G34: 14 | H34: Chủ nhiệm 9C1 | I34: 4 | J34: HSG Toán 8 | K34: 1 | L34: =G34+I34+K34 -> 19 | M34: =L34-19 -> 0
A35: 5 | B35: Nguyễn Minh | C35: 05/03/1982 | D35: Giáo viên | E35: Vật lí, Lí-Tin | F35: KHTN 7B1C1/8 + KHTN (Lí)8A1,B1/2,69 + KHTN (Lí)9A1B1C1/4,035+ HĐTN,HN7C1/1 | G35: 15.725 | H35: Chủ nhiệm 7C1 | I35: 4 | J35: HSG Lí 9 | K35: 1 | L35: =G35+I35+K35 -> 20.725 | M35: =L35-19 -> 1.725
A36: 6 | B36: Trần Thị Thoa | C36: 07/09/1982 | D36: Giáo viên | E36: Sinh học, Sinh-Hóa | F36: KHTN6B1/4 + KHTN7A1/4 + KHTN(Sinh)8A1B1/2,74 + KHTN(Sinh) 9A1B1C1/3,33 | G36: 14.07 | H36: Chủ nhiệm 7A1 | I36: 4 | J36: HSG Sinh 8 | K36: 1 | L36: =G36+I36+K36 -> 19.07 | M36: =L36-19 -> 0.07
A37: 7 | B37: Trần Thị Thu | C37: 01/07/1992 | D37: Giáo viên | E37: Hóa học | F37: KHTN(Hóa) 9A1B1C1/4,635 + KHTN(Hóa) 8A1B1/2,57+KHTN 6A1/4 + HĐTN-HN9A1/2 | G37: 14.205 | H37: Chủ nhiệm 9A1 | I37: 4 | J37: HSG Hóa 9 | K37: 1 | L37: =G37+I37+K37 -> 19.205 | M37: =L37-19 -> 0.205
A38: 8 | B38: Lê Thị Thu | C38: 07/04/1981 | D38: Giáo viên | E38: TDTT, TD | F38: GDTC 6A1/2 + GDTC7A1B17C1/6+ GDTC8A1B1/4+ GDTC9A1B1C1/6 | G38: 18 | J38: HSG GDTC | K38: 1 | L38: =G38+I38+K38 -> 19 | M38: =L38-19 -> 0
A39: 9 | B39: Đỗ Quang Hiệu | C39: 31761 | D39: Giáo viên | E39: CNTT, Tin học | F39: Tin 6A1B1/2 + Tin 7A1B1C1/3 + Tin 8A1B1/2 + Tin 9A1B1C1/3+ HĐTN,HN8B1/3+C.Nghệ 7C1/1 | G39: 14 | H39: Chủ nhiệm 8B1 | I39: 4 | J39: HSG Tin 8 | K39: 1 | L39: =G39+I39+K39 -> 19 | M39: =L39-19 -> 0
A40: 10 | B40: Phạm Văn Đồng | C40: 28192 | D40: Giáo viên | E40: Toán, Toán | F40: Toán 7B1C1/8 + HĐTN,HN7B1/3+C.Nghệ 9B19C1/3 | G40: 14 | H40: Chủ nhiệm 7B1 | I40: 4 | J40: HSG Toán 7 | K40: 1 | L40: =G40+I40+K40 -> 19 | M40: =L40-19 -> 0
...

Sheet TKB HOCKYITUAN2(14.9)->T..(.)L2
A1: TRƯỜNG THCS ĐÔNG HẢI
A2: THỜI KHÓA BIỂU HỌC KÌ I-LẦN 2 NĂM HỌC 2026-2027 Thực hiện từ Tuần 2(14/09/2026) đến hết tuần……(…….../………./2026) | X2: THỜI KHÓA BIỂU HỌC KÌ I-LẦN 2 NĂM HỌC 2026-2027 Thực hiện từ Tuần 2(14/09/2026) đến hết tuần……(…….../………./2026)
A4: Thứ | B4: Buổi | C4: Tiết | D4: CƠ SỞ 1 | X4: CƠ SỞ 2 | AR4: CƠ SỞ 1 | AS4: CƠ SỞ 2
D5: 9A1- Tr. Thu | F5: 9B1- Yến | H5: 9C1- Thảo | J5: 8A1- Thời | L5: 8B1- Hiệu | N5: 7A1-Thoa | P5: 7B1-Đồng | R5: 7C1-Minh | T5: 6A1- Trang | V5: 6B1- Lệ | X5: 9A2- Oanh | Z5: 9B2- Nguyên | AB5: 8A2- An | AD5: 8B2- Vương | AF5: 8C2- Mậu | AH5: 7A2 - Quang | AJ5: 7B2- Thành | AL5: 6A2- Thủy | AN5: 6B2 - Mây | AP5: 6C2 -Hoa | AR5: TRỰC BGH, TT,TP, TPT, NHÂN VIÊN | AS5: TRỰC BGH, TT,TP, TPT, NHÂN VIÊN
A6: THỨ HAI | B6: SÁNG | C6: 1 | D6: HĐTNHN1 | E6: T.Thu | F6: HĐTNHN1 | G6: Yến | H6: HĐTNHN1 | I6: Thảo | J6: HĐTN,HN1 | K6: Thời | L6: HĐTN,HN1 | M6: Hiệu | N6: HĐTNHN1 | O6: Hải | P6: HĐTNHN1 | Q6: Đồng | R6: HĐTNHN1 | S6: Minh | T6: HĐTNHN1 | U6: Thanh | V6: HĐTNHN1 | W6: Lệ | X6: HĐTNHN1 | Y6: Biển | Z6: HĐTNHN1 | AA6: Nguyên | AB6: HĐTNHN1 | AC6: Nhung | AD6: KHTN(Sinh) | AE6: Hoa | AF6: KHTN(Lí) | AG6: H.Trang | AH6: HĐTNHN1 | AI6: Quang | AJ6: HĐTNHN1 | AK6: Năm | AL6: NT(Â.Nhạc) | AM6: My | AN6: KHTN | AO6: Huế | AP6: GDCD | AQ6: Mây | AR6: BGH, Điệp, Đ.Thu, Ngọc, Hạnh | AS6: BGH, Hồng, Trang
C7: 2 | D7: KHTN(Lí) | E7: Minh | F7: Văn | G7: Yến | H7: Tin | I7: Hiệu | J7: Anh | K7: Luyến | L7: KHTN(Hóa) | M7: T.Thu | N7: Văn | O7: Vân | P7: Anh | Q7: Phương | R7: Toán | S7: Đồng | T7: Toán | U7: Nga | V7: GDTC | W7: Hải | X7: Văn | Y7: Oanh | Z7: LS&ĐL(Địa) | AA7: Quang | AB7: Toán | AC7: An | AD7: Anh | AE7: Đ.Bình | AF7: KHTN(Hóa) | AG7: Huế | AH7: Anh | AI7: P.Bình | AJ7: Văn | AK7: Mậu | AL7: HĐTNHN1 | AM7: Biển | AN7: Văn | AO7: Thủy | AP7: HĐTNHN1 | AQ7: Hoa
C8: 3 | D8: Tin | E8: Hiệu | F8: Anh | G8: Luyến | H8: Toán | I8: Thảo | J8: Toán | K8: Nga | L8: KHTN(Hóa) | M8: T.Thu | N8: KHTN | O8: Thoa | P8: Văn | Q8: Vân | R8: Văn | S8: Yến | T8: GDTC | U8: L.Thu | V8: Văn | W8: Thời | X8: GDCD | Y8: Mây | Z8: NT(MT) | AA8: Biển | AB8: NT(Â.Nhạc) | AC8: My | AD8: KHTN(Hóa) | AE8: Huế | AF8: LS&ĐL(Sử) | AG8: Mậu | AH8: KHTN | AI8: H.Trang | AJ8: Toán | AK8: Thành | AL8: Văn | AM8: Thủy | AN8: GDTC | AO8: Sơn | AP8: Toán | AQ8: Đạt
C9: 4 | D9: Văn | E9: Vân | F9: LS&ĐL(Sử) | G9: P.Trang | H9: KHTN(Lí) | I9: Minh | J9: Toán | K9: Nga | L9: Anh | M9: Luyến | N9: GDTC | O9: L.Thu | P9: Toán | Q9: Đồng | R9: Văn | S9: Yến | T9: NT(MT) | U9: Lệ | V9: LS&ĐL(Địa) | W9: Hiệp | X9: Toán | Y9: Thành | Z9: Toán | AA9: Vương | AB9: KHTN(Lí) | AC9: H.Trang | AD9: KHTN(Hóa) | AE9: Huế | AF9: Anh | AG9: Đ.Bình | AH9: GDTC | AI9: Sơn | AJ9: LS&ĐL(Địa ) | AK9: Quang | AL9: Văn | AM9: Thủy | AN9: Toán | AO9: Đạt | AP9: C.Nghệ | AQ9: Năm
B10: CHIỀU | D10: Tiết 1,2,3: 6 Đội tuyển HSG khối 9: Ngữ văn, Tiếng anh, LS&ĐL(sử), Toán, KHTN(Lí), KHTN(Hóa học); 3 đội tuyển khối 8: Toán, Ngữ văn, Tiếng anh ôn để có học sinh dự thi cùng khối 9. | X10: Tiết 1,2,3: 6 Đội tuyển HSG khối 9: Ngữ văn, Tiếng anh, LS&ĐL(sử), Toán, KHTN(Lí), KHTN(Hóa học); 3 đội tuyển khối 8: Toán, Ngữ văn, Tiếng anh ôn để có học sinh dự thi cùng khối 9. | AR10: Vinh | AS10: Thắng
A12: THỨ BA | B12: SÁNG | C12: 1 | D12: GDTC | E12: L.Thu | F12: Văn | G12: Yến | H12: Toán | I12: Thảo | J12: Anh | K12: Luyến | L12: Văn | M12: Thời | N12: NT(MT) | O12: Lệ | P12: Anh | Q12: Phương | R12: KHTN | S12: Minh | T12: LS&ĐL(Địa) | U12: Hiệp | V12: Toán | W12: Nga | X12: Văn | Y12: Oanh | Z12: Văn | AA12: Nguyên | AB12: Toán | AC12: An | AD12: Toán | AE12: Vương | AF12: Anh | AG12: Đ.Bình | AH12: NT(MT) | AI12: Biển | AJ12: Anh | AK12: P.Bình | AL12: KHTN | AM12: Huế | AN12: GDĐP | AO12: Năm | AP12: GDTC | AQ12: Hải | AR12: Thanh, Thắng, Đạt, Đ.Thu, Ngọc, Điệp | AS12: Nhung, Vinh, Vương, Trang, Hồng
C13: 2 | D13: Văn | E13: Vân | F13: GDĐP | G13: Hiệp | H13: Văn | I13: Yến | J13: Anh | K13: Luyến | L13: HĐTN,HN2 | M13: Hiệu | N13: LS&ĐL(Sử) | O13: P.Trang | P13: Anh | Q13: Phương | R13: KHTN | S13: Minh | T13: Văn | U13: Hằng | V13: Toán | W13: Nga | X13: Văn | Y13: Oanh | Z13: GDĐP | AA13: Năm | AB13: KHTN(Hóa) | AC13: Huế | AD13: Toán | AE13: Vương | AF13: Anh | AG13: Đ.Bình | AH13: LS&ĐL(Sử) | AI13: Thủy | AJ13: Anh | AK13: P.Bình | AL13: GDTC | AM13: Sơn | AN13: LS&ĐL(Sử) | AO13: Nguyên | AP13: KHTN | AQ13: Hoa
C14: 3 | D14: Văn | E14: Vân | F14: Toán | G14: Đạt | H14: Văn | I14: Yến | J14: KHTN(Hóa) | K14: T.Thu | L14: Anh | M14: Luyến | N14: Toán | O14: Thảo | P14: LS&ĐL(Sử) | Q14: P.Trang | R14: GDTC | S14: L.Thu | T14: GDĐP | U14: Phương | V14: HĐTN,HN2 | W14: Lệ | X14: GDTC | Y14: Sơn | Z14: Toán | AA14: Vương | AB14: Văn | AC14: Oanh | AD14: Anh | AE14: Đ.Bình | AF14: Toán | AG14: An | AH14: Toán | AI14: Thành | AJ14: LS&ĐL(Sử) | AK14: Thủy | AL14: NT(MT) | AM14: Biển | AN14: HĐTN,HN1 | AO14: Hải | AP14: HĐTN,HN2 | AQ14: Năm
C15: 4 | D15: GDĐP | E15: Hiệp | F15: Toán | G15: Đạt | H15: GDCD | I15: Mây | J15: KHTN(Hóa) | K15: T.Thu | L15: Anh | M15: Luyến | N15: Toán | O15: Thảo | P15: GDTC | Q15: L.Thu | R15: NT(MT) | S15: Lệ | T15: LS&ĐL(Sử) | U15: P.Trang | V15: KHTN | W15: Thoa | X15: GDĐP | Y15: Năm | Z15: Toán | AA15: Vương | AB15: Văn | AC15: Oanh | AD15: Anh | AE15: Đ.Bình | AF15: Toán | AG15: An | AH15: Toán | AI15: Thành | AJ15: GDTC | AK15: Sơn | AL15: Văn | AM15: Thủy | AN15: HĐTN,HN2 | AO15: Hải | AP15: KHTN | AQ15: Hoa
B16: CHIỀU | C16: 1 | D16: LS&ĐL(Địa) | E16: Hiệp | F16: KHTN(Hóa) | G16: T.Thu | H16: NT(Â.Nhạc) | I16: My | J16: KHTN(Sinh) | K16: Thoa | L16: C.Nghệ | M16: Nga | N16: GDĐP | O16: Phương | P16: HĐTN,HN2 | Q16: Đồng | R16: Tin | S16: Hiệu | T16: C.Nghệ | U16: Hải | V16: Văn | W16: Thời | X16: LS&ĐL(Sử) | Y16: Mậu | Z16: KHTN(Hóa) | AA16: Huế | AB16: Tin | AC16: H.Trang | AD16: HĐTN,HN | AE16: Thắng | AF16: KHTN(Sinh) | AG16: Hoa | AH16: LS&ĐL(Địa) | AI16: Quang | AJ16: NT(MT) | AK16: Biển | AL16: GDCD | AM16: Mây | AN16: C.Nghệ | AO16: Năm | AP16: Toán | AQ16: Đạt | AR16: Vinh, Nhung, Điệp | AS16: Thắng, Thanh, Hồng
C17: 2 | D17: LS&ĐL(Địa) | E17: Hiệp | F17: C. Nghệ | G17: Đồng | H17: KHTN(Hóa) | I17: T.Thu | J17: NT(Â. Nhạc) | K17: My | L17: KHTN(Sinh) | M17: Thoa | N17: HĐTNHN2 | O17: Hải | P17: C.Nghệ | Q17: Nga | R17: HĐTH,HN2 | S17: Hằng | T17: HĐTN,HN | U17: Vinh | V17: GDDP | W17: Phương | X17: LS&ĐL(Địa) | Y17: Quang | Z17: KHTHN(Lí) | AA17: H.Trang | AB17: KHTN(Hóa) | AC17: Huế | AD17: HĐTN,HN | AE17: Thắng | AF17: Văn | AG17: Mậu | AH17: Văn | AI17: Thủy | AJ17: HĐTN,HN2 | AK17: Năm | AL17: Anh | AM17: P.Bình | AN17: NT(MT) | AO17: Biển | AP17: Văn | AQ17: Nguyên
C18: 3 | D18: C.Nghệ | E18: Hải | F18: KHTHN(Lí) | G18: Minh | H18: KHTN(Hóa) | I18: T.Thu | J18: C.Nghệ | K18: Nga | L18: NT(Â. Nhạc) | M18: My | N18: KHTN | O18: Thoa | P18: Toán | Q18: Đồng | R18: GDCD | S18: Phương | T18: HĐTN,HN | U18: Vinh | V18: LS&ĐL(Địa) | W18: Hiệp | X18: HĐTN,HN2 | Y18: Biển | Z18: HĐTN,HN2 | AA18: Nguyên | AB18: LS&ĐL(Sử) | AC18: Quang | AD18: C.Nghệ | AE18: Huế | AF18: Văn | AG18: Mậu | AH18: GDĐP | AI18: Năm | AJ18: KHTN | AK18: H.Trang | AL18: Anh | AM18: P.Bình | AN18: Toán | AO18: Đạt | AP18: Tin | AQ18: Hoa
A19: THỨ TƯ | B19: SÁNG | C19: 1 | D19: Toán | E19: Thảo | F19: GDTC | G19: L.Thu | H19: GDĐP | I19: Hiệp | J19: Văn | K19: Thời | L19: Toán | M19: Vương | N19: Văn | O19: Vân | P19: KHTN | Q19: Minh | R19: Anh | S19: Phương | T19: Toán | U19: Nga | V19: LS&ĐL(Sử) | W19: P.Trang | X19: KHTN(Hóa) | Y19: Huế | Z19: KHTN(Sinh) | AA19: Hoa | AB19: Anh | AC19: Đ.Bình | AD19: Văn | AE19: Oanh | AF19: Toán | AG19: An | AH19: NT(Â.Nhạc) | AI19: Năm | AJ19: GDTC | AK19: Sơn | AL19: LS&ĐL(Địa) | AM19: Quang | AN19: Anh | AO19: P.Bình | AP19: LS&ĐL(Sử) | AQ19: Nguyên | AR19: Thanh, Ngọc, Điệp, Đ. Thu | AS19: Nhung, Đ.Bình, Hồng, Trang
C20: 2 | D20: Toán | E20: Thảo | F20: HĐTN,HN2 | G20: Đạt | H20: Văn | I20: Yến | J20: Toán | K20: Nga | L20: Toán | M20: Vương | N20: Văn | O20: Vân | P20: GDTC | Q20: L.Thu | R20: LS&ĐL(Sử) | S20: P.Trang | T20: LS&ĐL(Địa) | U20: Hiệp | V20: Anh | W20: Luyến | X20: NT(Â. Nhạc) | Y20: My | Z20: KHTN(Hóa) | AA20: Huế | AB20: Anh | AC20: Đ.Bình | AD20: Văn | AE20: Oanh | AF20: GDTC | AG20: Sơn | AH20: Văn | AI20: Thủy | AJ20: KHTN | AK20: H.Trang | AL20: Toán | AM20: An | AN20: Anh | AO20: P.Bình | AP20: Văn | AQ20: Nguyên
C21: 3 | D21: Văn | E21: Vân | F21: KHTN(Hóa) | G21: T.Thu | H21: LS&ĐL(Địa) | I21: Hiệp | J21: C.Nghệ | K21: Nga | L21: NT(MT) | M21: Lệ | N21: GDTC | O21: L.Thu | P21: Tin | Q21: Hiệu | R21: Văn | S21: Yến | T21: GDCD | U21: Phương | V21: Văn | W21: Thời | X21: Toán | Y21: Thành | Z21: Anh | AA21: Đ.Bình | AB21: NT(MT) | AC21: Biển | AD21: C.Nghệ | AE21: Huế | AF21: Văn | AG21: Mậu | AH21: Văn | AI21: Thủy | AJ21: C.Nghệ | AK21: Hải | AL21: Anh | AM21: P.Bình | AN21: NT(Â. Nhạc) | AO21: My | AP21: Văn | AQ21: Nguyên
C22: 4 | D22: HĐTN,HN2 | E22: Đạt | F22: LS&ĐL(Địa) | G22: Hiệp | H22: GDTC | I22: L.Thu | J22: GDĐP | K22: Phương | L22: C.Nghệ | M22: Nga | N22: Toán | O22: Thảo | P22: Văn | Q22: Vân | R22: Văn | S22: Yến | T22: Anh | U22: Luyến | V22: Văn | W22: Thời | X22: Toán | Y22: Thành | Z22: Anh | AA22: Đ.Bình | AB22: GDTC | AC22: Sơn | AD22: NT(Â. Nhạc) | AE22: My | AF22: GDCD | AG22: Mây | AH22: C.Nghệ | AI22: Hải | AJ22: Văn | AK22: Mậu | AL22: Văn | AM22: Thủy | AN22: Tin | AO22: H.Trang | AP22: GDĐP | AQ22: Năm
C23: 5 | D23: NT(MT) | E23: Lệ | F23: LS&ĐL(Địa) | G23: Hiệp | H23: HĐTN,HN2 | I23: Đạt | J23: HĐTNHN2 | K23: Thời | L23: GDĐP | M23: Phương | X23: NT(MT) | Y23: Biển | Z23: NT(Â. Nhạc) | AA23: My | AB23: C.Nghệ | AC23: Huế | AD23: GDCD | AE23: Mây | AF23: C.Nghệ | AG23: Hải
